BEGIN:VCALENDAR
VERSION:2.0
PRODID:-//IP.Board Calendar 4.3.6//EN
METHOD:PUBLISH
CALSCALE:GREGORIAN
X-WR-CALNAME:WOG
BEGIN:VTIMEZONE
TZID:Europe/London
TZURL:http://tzurl.org/zoneinfo/Europe/London
X-LIC-LOCATION:Europe/London
BEGIN:DAYLIGHT
TZOFFSETFROM:+0000
TZOFFSETTO:+0100
TZNAME:BST
DTSTART:20150329T020000Z
RRULE:FREQ=YEARLY;BYMONTH=3;BYDAY=-1SU
END:DAYLIGHT
BEGIN:STANDARD
TZOFFSETFROM:+0100
TZOFFSETTO:+0000
TZNAME:GMT
DTSTART:20151025T020000Z
RRULE:FREQ=YEARLY;BYMONTH=10;BYDAY=-1SU
END:STANDARD
END:VTIMEZONE
BEGIN:VEVENT
SUMMARY:mWOG² 29.01.15
DTSTAMP:20150127T190844Z
SEQUENCE:0
UID:97-1-5734b46ed07498cf109a779f6d92c724@wogames.info
ORGANIZER;CN="ToxaSM":no-reply@wogames.info
DESCRIPTION:\n\nВ четверг 29 Января в 21:00 (МСК) на
	 WOG Iron Front Server #1 \n\n\n\nпройдёт игра по Iron Front:
	 Arma3\, \n\n\n\n\n \nДанные сервера\nIP: 193.19.118.182 
	Port: 2322\nСбор в нашем новом ТC‘е в 20:45 ( IP: 193.
	19.119.188 Port: 9987 Pass: 1945 )\nПОВТОРН
	О РЕГИСТРИРОВАТЬСЯ НЕ НУЖНО\n\n\n\nС
	сылка ArmA3Sync на Lite версию:\nftp://wogames.info/ArmA3Sync
	/IF_Lite/.a3s/autoconfig\nСсылка ArmA3Sync на полную в
	ерсию*:\nftp://wogames.info/ArmA3Sync/IF
	\n*Только обладателям оригинальной и
	гры Iron Front Liberation 1944. За 
	получением ло
	гина и пароля об
	ращайтесь ко мне в ли
	чку.\nИнструкция по использованию ArmA3Sy
	nc доступна тут\n\n\n\n\n\n
DTSTART;VALUE=DATE:20150129
END:VEVENT
END:VCALENDAR
