BEGIN:VCALENDAR
VERSION:2.0
PRODID:-//IP.Board Calendar 4.3.6//EN
METHOD:PUBLISH
CALSCALE:GREGORIAN
X-WR-CALNAME:WOG
BEGIN:VTIMEZONE
TZID:Europe/London
TZURL:http://tzurl.org/zoneinfo/Europe/London
X-LIC-LOCATION:Europe/London
BEGIN:DAYLIGHT
TZOFFSETFROM:+0000
TZOFFSETTO:+0100
TZNAME:BST
DTSTART:20220327T020000Z
RRULE:FREQ=YEARLY;BYMONTH=3;BYDAY=-1SU
END:DAYLIGHT
BEGIN:STANDARD
TZOFFSETFROM:+0100
TZOFFSETTO:+0000
TZNAME:GMT
DTSTART:20221030T020000Z
RRULE:FREQ=YEARLY;BYMONTH=10;BYDAY=-1SU
END:STANDARD
END:VTIMEZONE
BEGIN:VEVENT
SUMMARY:Weekly Open Games 21.10.2022 - 22.10.2022
DTSTAMP:20221016T222724Z
SEQUENCE:0
UID:968-1-5734b46ed07498cf109a779f6d92c724@wogames.info
ORGANIZER;CN="WOGlNFO":no-reply@wogames.info
DESCRIPTION:\n\n	Cторона 1: KND + SSOT + FRWL + JW + DT + MOR  +
	 FOX + SF   |  Сторона 2: HMG + BE + LG + L13 + GHOST + FFA 
	+ A-Team + A+\n\n\n\n	    В пятницу 21.10.2022 и
	граем:    \n\n\n\n	1. 
	Сведение счётов  Ц
	АХАЛ - Боевики  [Остров - Литиу
	м] Сторона 1 в Атаке\n\n\n\n	    2. 
	Liberation Berezino﻿﻿  ВДВ РФ
	 - Ополчение [Остров - Ч
	ерноруссия 2020] Сторон
	а 1 в Обороне\n\n\n\n	    Игровой а
	дминистратор - \n\n\n\n	 \n\n\n\n	    В су
	бботу 22.10.2022 играем:\n\n\n\n	    1. 
	Njet\, Lavroff!  ВС РФ - В
	С НАТО﻿﻿ [Остров - Хелланм
	аа (зимняя)] Сторона 1 в Оборон
	е\n\n\n	2. Five lions  ВС Афгани
	стана - ФНО [Остров - Ани
	зай] Сторона 1 в Атаке\n\n\n\
	n	    3. По количеству игрок
	ов\n\n\n\n	    Игровой администратор - [JW]M
	EDVEPUT\n\n\n\n	     \n\n\n\n	    Коман
	дование: \n\n\n\n	 
	Внимание! Мис
	сии могут быть об
	новлены в течени
	е недели! Следите
	 за темами!\n\n\nТехническ
	ая информация для подключения:\n\n\n\
	n	\n		Спойлер\n	\n\n	\n		\n			IP игрового сервера: 
	88.99.69.243\n		\n\n		\n			Порт игрового сервер
	а: 63089\n\n			Пароль: wogames\n		\n\n		\n			TeamSpeak сер
	вер: wogames.info:9987\n		\n\n		\n			Строка Запуска:\n		\
	n\n		\n			-mod=@CUP_Terrains_Core\;@CUP_Terrains_Maps\;@RHSGREF\;@RHSSAF\;
	@RHSUSAF\;@RHSAFRF\;@WOG_ACE\;@WOG_Mods\;@WOG_BAF\;@WOG_BW\;@WOG_Islands\;
	@YuEmod\;@TFAR\;\n		\n\n		\n			Репозиторий (Arma3Synс):\n\nhtt
	p://88.99.69.232:8080/.a3s/autoconfig\n		\n	\n\n\n\n	 \n\n
DTSTART:20221021T180000Z
DTEND:20221022T205900Z
END:VEVENT
END:VCALENDAR
