BEGIN:VCALENDAR
VERSION:2.0
PRODID:-//IP.Board Calendar 4.3.6//EN
METHOD:PUBLISH
CALSCALE:GREGORIAN
X-WR-CALNAME:WOG
BEGIN:VTIMEZONE
TZID:Europe/London
TZURL:http://tzurl.org/zoneinfo/Europe/London
X-LIC-LOCATION:Europe/London
BEGIN:DAYLIGHT
TZOFFSETFROM:+0000
TZOFFSETTO:+0100
TZNAME:BST
DTSTART:20220327T020000Z
RRULE:FREQ=YEARLY;BYMONTH=3;BYDAY=-1SU
END:DAYLIGHT
BEGIN:STANDARD
TZOFFSETFROM:+0100
TZOFFSETTO:+0000
TZNAME:GMT
DTSTART:20221030T020000Z
RRULE:FREQ=YEARLY;BYMONTH=10;BYDAY=-1SU
END:STANDARD
END:VTIMEZONE
BEGIN:VEVENT
SUMMARY:Weekly Open Games 29.07.2022 - 30.07.2022
DTSTAMP:20220725T201919Z
SEQUENCE:0
UID:954-1-5734b46ed07498cf109a779f6d92c724@wogames.info
ORGANIZER;CN="WOGlNFO":no-reply@wogames.info
DESCRIPTION:\n\n	  Cторона 1: KND + DT + FOX + GHOST + JW + L13
	 + SRR + LG + A+   |  Сторона 2: BE + COBALT + FFA + FRWL + 
	MOR + SF + SSOT + HMG    \n\n\n\n	    В пятницу 29.
	07.2022 играем:\n\n\n\n	    1. Co
	rridor﻿ 92﻿﻿ ВС
	 Сербии - ВС 
	Боснии и Герцеговины
	 [Остров - Трасса ﻿7﻿] Сторона 1 в Ат
	аке\n\n\n\n	    2. Abandoned hotel (20
	22) ВС Ирана - Повстанц
	ы/НАТО [Остров - Алтис] С
	торона 1 в Обороне\n\n\n\n	 
	   3. По количеству игроков\
	n\n\n\n	    Игровой администратор - [FOX
	]visu\n\n\n\n	 \n\n\n\n	    В субботу 30.07.2022 
	играем:\n\n\n\n	    
	1. Молот и накова
	льня СРО - ДША﻿ [Остр
	ов - Литиум] Сторона 1 
	в Обороне\n\n\n\n	    2. 
	Павлово ВС РФ - ЧСО [Ост
	ров - Чернарусь 2020] Сторо
	на 1 в Атаке\n\n\n\n	    3. 
	По количеству игроков\n\n\n\n	 
	   Игровой администратор - [ALC] Er
	ron\n\n\n\n	     \n\n\n\n	    Командование
	:\n\n\n\n	\n\n\n	 Внимание!
	 Миссии могут быть об
	новлены в течение недели! С
	ледите за темами!\n\n\n\n
		 \n\n\n\n	    Техническая и
	нформация для подключения:\n\n\n\n	\
	n		Спойлер\n	\n\n	\n		\n			IP игрового сервера: 88.
	99.69.243\n		\n\n		\n			Порт игрового сервера: 
	63089\n\n			Пароль: wogames\n		\n\n		\n			TeamSpeak сервер: 
	wogames.info:9987\n		\n\n		\n			Строка Запуска:\n		\n\n		\n		
		-mod=@CUP_Terrains_Core\;@CUP_Terrains_Maps\;@RHSGREF\;@RHSSAF\;@RHSUSAF\
	;@RHSAFRF\;@WOG_ACE\;@WOG_Mods\;@WOG_BAF\;@WOG_BW\;@WOG_Islands\;@YuEmod\;
	@TFAR\;\n		\n\n		\n			Репозиторий (Arma3Synс):\n\nhttp://88.99
	.69.232:8080/.a3s/autoconfig\n		\n	\n\n\n\n	 \n\n
DTSTART:20220729T180000Z
DTEND:20220730T205900Z
END:VEVENT
END:VCALENDAR
