BEGIN:VCALENDAR
VERSION:2.0
PRODID:-//IP.Board Calendar 4.3.6//EN
METHOD:PUBLISH
CALSCALE:GREGORIAN
X-WR-CALNAME:WOG
BEGIN:VTIMEZONE
TZID:Europe/London
TZURL:http://tzurl.org/zoneinfo/Europe/London
X-LIC-LOCATION:Europe/London
BEGIN:DAYLIGHT
TZOFFSETFROM:+0000
TZOFFSETTO:+0100
TZNAME:BST
DTSTART:20220327T020000Z
RRULE:FREQ=YEARLY;BYMONTH=3;BYDAY=-1SU
END:DAYLIGHT
BEGIN:STANDARD
TZOFFSETFROM:+0100
TZOFFSETTO:+0000
TZNAME:GMT
DTSTART:20221030T020000Z
RRULE:FREQ=YEARLY;BYMONTH=10;BYDAY=-1SU
END:STANDARD
END:VTIMEZONE
BEGIN:VEVENT
SUMMARY:Weekly Open Games 08.07.2022 - 09.07.2022
DTSTAMP:20220703T185803Z
SEQUENCE:0
UID:951-1-5734b46ed07498cf109a779f6d92c724@wogames.info
ORGANIZER;CN="WOGlNFO":no-reply@wogames.info
DESCRIPTION:\n\n	       Cторона 1: KND + DT + FOX + GHOST + JW
	 + L13 + SRR + LG + A+   |  Сторона 2: BE + COBALT + FFA + FR
	WL + MOR + SF + SSOT + HMG    \n\n\n\n	    В пятниц
	у 08.07.2022 играем:\n\n\n\n	    1. Under Pressu
	re US Army - ВС СССР [Остров - Рош
	е] Сторона 1 в Обороне\n\n\n\n	    2. Operat
	ion Hourglass﻿ US Army - Боевики 
	[Остров - Фаллуджа] Сто
	рона 1 в Атаке\n\n\n\n	    3.
	 По количеству игроков\n\n\n\n	 
	   Игровой администратор - [FOX]visu\n\n
	\n\n	 \n\n\n\n	    В субботу 09.07.2022 играем:\n\n
	\n\n	    1. Breaking Point ВС РФ - US
	 Army ﻿ [Остров - Хелланм
	аа Зимняя] Сторона 1
	 в Атаке\n\n\n\n	    2
	. Черный тюльпан
	 Боевики - ОКСВА [Остров 
	- Такистан] Сторона 1 в Обор
	оне\n\n\n\n	    3. По кол
	ичеству игроков\n\n\n\n	    Игрово
	й администратор - [ALC]Erron\n\n\n\n	    
	 \n\n\n\n	    Командовани
	е:\n\n\n\n	 Внимание
	! Миссии могут быть о
	бновлены в течение недели! 
	Следите за темами!\n\n\n\
	n	 \n\n\n\n	    Техническая и
	нформация для подключения:\n\n\n\n	\
	n		Спойлер\n	\n\n	\n		\n			IP игрового сервера: 88.
	99.69.243\n		\n\n		\n			Порт игрового сервера: 
	63089\n\n			Пароль: wogames\n		\n\n		\n			TeamSpeak сервер: 
	wogames.info:9987\n		\n\n		\n			Строка Запуска:\n		\n\n		\n		
		-mod=@CUP_Terrains_Core\;@CUP_Terrains_Maps\;@RHSGREF\;@RHSSAF\;@RHSUSAF\
	;@RHSAFRF\;@WOG_ACE\;@WOG_Mods\;@WOG_BAF\;@WOG_BW\;@WOG_Islands\;@YuEmod\;
	@TFAR\;\n		\n\n		\n			Репозиторий (Arma3Synс):\n		\n\n		\n			h
	ttp://88.99.69.232:8080/.a3s/autoconfig\n		\n	\n\n
DTSTART:20220708T180000Z
DTEND:20220709T205900Z
END:VEVENT
END:VCALENDAR
