BEGIN:VCALENDAR
VERSION:2.0
PRODID:-//IP.Board Calendar 4.3.6//EN
METHOD:PUBLISH
CALSCALE:GREGORIAN
X-WR-CALNAME:WOG
BEGIN:VTIMEZONE
TZID:Europe/London
TZURL:http://tzurl.org/zoneinfo/Europe/London
X-LIC-LOCATION:Europe/London
BEGIN:DAYLIGHT
TZOFFSETFROM:+0000
TZOFFSETTO:+0100
TZNAME:BST
DTSTART:20210328T020000Z
RRULE:FREQ=YEARLY;BYMONTH=3;BYDAY=-1SU
END:DAYLIGHT
BEGIN:STANDARD
TZOFFSETFROM:+0100
TZOFFSETTO:+0000
TZNAME:GMT
DTSTART:20211031T020000Z
RRULE:FREQ=YEARLY;BYMONTH=10;BYDAY=-1SU
END:STANDARD
END:VTIMEZONE
BEGIN:VEVENT
SUMMARY:Weekly Open Games 24.12.2021 - 26.12.2021
DTSTAMP:20211219T182634Z
SEQUENCE:0
UID:922-1-5734b46ed07498cf109a779f6d92c724@wogames.info
ORGANIZER;CN="WOG Missions":no-reply@wogames.info
DESCRIPTION:\n\n	Cторона 1: KND + 5THPK + FFA + LG + SSOT + TSN 
	+ CTU + GHOST + JW + L13 + A+   |  Сторона 2: SF + BE + FRWL 
	+ FOX + ALC + DT + MOR + SRR + COBALT + JK\n\n\n\n	 \n\n\n\n	В пя
	тницу 24.12.2021 играем:\n\n\n\n
		1. Операция «Щит пустыни» 
	ВДВ РФ - USMC [Остров - Reshmaan] Сторона 1 
	в Атаке\n\n\n\n	2. Fool's Road Russian guard forces - Irregula
	r Militia [Остров - Chernarus 2020] Сторона 
	1 в Обороне\n\n\n\n	3. По 
	количеству игроков\n\n\n\n	Игровой 
	администратор -  [JW]Setris\n\n\n\n	 \n\n\n\
	n	В субботу 25.12.2021 играем:\n\n
	\n\n	1. Битва за Мальден USM
	C - Армия Мальдена [Остров - Malde
	n] Сторона 1 в Обороне\n\n\n\n	2. The
	 World Eater USMC - Террористы [Остров 
	- Lingor] Сторона 1 в Атаке\n\n\n\n
		3. По количеству игроков\n\n\n\n	И
	гровой администратор - [FOX]visu\n\n\n\n	 
	\n\n\n\n	Командование:\n\n\n\
	n\n\n	Внимание! Ми
	ссии могут быть обно
	влены в течение нед
	ели! Следите за темам
	и!\n\n\n\n	Техническая информаци
	я для подключения:\n\n	 \n\n\n\n	\n		Спойл
	ер\n	\n\n	\n		\n			IP игрового сервера: 88.99.69.2
	43\n		\n\n		\n			Порт игрового сервера: 63089\n
	\n			Пароль: wogames\n		\n\n		\n			TeamSpeak сервер: wogames
	.info:9987\n		\n\n		\n			Строка Запуска:\n		\n\n		\n			-mod=@
	CUP_Terrains_Core\;@CUP_Terrains_Maps\;@RHSGREF\;@RHSSAF\;@RHSUSAF\;@RHSAF
	RF\;@WOG_ACE\;@WOG_Mods\;@WOG_BAF\;@WOG_BW\;@WOG_Islands\;@YuEmod\;@TFAR\;
	\n		\n\n		\n			Репозиторий (Arma3Synс):\n		\n\n		\n			http://8
	8.99.69.232:8080/.a3s/autoconfig\n		\n	\n\n\n\n	 \n\n
DTSTART:20211224T180000Z
DTEND:20211225T220000Z
END:VEVENT
END:VCALENDAR
