BEGIN:VCALENDAR
VERSION:2.0
PRODID:-//IP.Board Calendar 4.3.6//EN
METHOD:PUBLISH
CALSCALE:GREGORIAN
X-WR-CALNAME:WOG
BEGIN:VTIMEZONE
TZID:Europe/London
TZURL:http://tzurl.org/zoneinfo/Europe/London
X-LIC-LOCATION:Europe/London
BEGIN:DAYLIGHT
TZOFFSETFROM:+0000
TZOFFSETTO:+0100
TZNAME:BST
DTSTART:20210328T020000Z
RRULE:FREQ=YEARLY;BYMONTH=3;BYDAY=-1SU
END:DAYLIGHT
BEGIN:STANDARD
TZOFFSETFROM:+0100
TZOFFSETTO:+0000
TZNAME:GMT
DTSTART:20211031T020000Z
RRULE:FREQ=YEARLY;BYMONTH=10;BYDAY=-1SU
END:STANDARD
END:VTIMEZONE
BEGIN:VEVENT
SUMMARY:Weekly Open Games 10.12.2021 - 11.12.2021
DTSTAMP:20211205T182025Z
SEQUENCE:0
UID:920-1-5734b46ed07498cf109a779f6d92c724@wogames.info
ORGANIZER;CN="WOG Missions":no-reply@wogames.info
DESCRIPTION:\n\n	  Cторона 1: KND + 5THPK + FFA + LG + SSOT + T
	SN + CTU + GHOST + L13 + A+   |  Сторона 2: SF + BE + FRWL +
	 FOX + ALC + DT + JW + MOR + SRR + COBALT + JK\n\n\n\n	 \n\n\n\n	
	В пятницу 10.12.2021 играем:\n\n\n\n	1. Ex Friends US 
	Army - Bundeswehr [Остров - VT7] Сторона 1 за 
	Красных\n\n\n\n	2. Firefly BAF - Takistan Army [О
	стров - Takistan] Сторона 1 в Атаке
	\n\n\n\n	3. По количеству игроков\n
	\n\n\n	Игровой администратор - [JW]MEDVEPUT\n
	\n\n\n	 \n\n\n\n	В субботу 11.12.2021 играем:\n\n\n\n	1.
	 Anizay Invasion ВС РФ - MEA [Остров - Aniz
	ay] Сторона 1 в Обороне\n\n\n\n	2.
	 The New Order Омская Че
	рная Лига - Рейхскоми
	ссариат Московия [Остров - Poda
	gorsk] Сторона 1 в Атаке\n\n\n\n	
	3. По количеству игроков\n\n\n\n	Иг
	ровой администратор - [KND]Dekfor\n\n\n\n	 
	\n\n\n\n	Командование:\n\n\n\n	\n
	\n\n\n	Внимание! Ми
	ссии могут быть обно
	влены в течение нед
	ели! Следите за темам
	и!\n\n\n\n	Техническая информац
	ия для подключения:\n\n\n\n	\n		Спойл
	ер\n	\n\n	\n		\n			IP игрового сервера: 88.99.69.2
	43\n		\n\n		\n			Порт игрового сервера: 63089\n
	\n			Пароль: wogames\n		\n\n		\n			TeamSpeak сервер: wogames
	.info:9987\n		\n\n		\n			Строка Запуска:\n		\n\n		\n			-mod=@
	CUP_Terrains_Core\;@CUP_Terrains_Maps\;@RHSGREF\;@RHSSAF\;@RHSUSAF\;@RHSAF
	RF\;@WOG_ACE\;@WOG_Mods\;@WOG_BAF\;@WOG_BW\;@WOG_Islands\;@YuEmod\;@TFAR\;
	\n		\n\n		\n			Репозиторий (Arma3Synс):\n		\n\n		\n			http://8
	8.99.69.232:8080/.a3s/autoconfig\n		\n	\n\n
DTSTART:20211210T180000Z
DTEND:20211211T190000Z
END:VEVENT
END:VCALENDAR
