BEGIN:VCALENDAR
VERSION:2.0
PRODID:-//IP.Board Calendar 4.3.6//EN
METHOD:PUBLISH
CALSCALE:GREGORIAN
X-WR-CALNAME:WOG
BEGIN:VTIMEZONE
TZID:Europe/London
TZURL:http://tzurl.org/zoneinfo/Europe/London
X-LIC-LOCATION:Europe/London
BEGIN:DAYLIGHT
TZOFFSETFROM:+0000
TZOFFSETTO:+0100
TZNAME:BST
DTSTART:20210328T020000Z
RRULE:FREQ=YEARLY;BYMONTH=3;BYDAY=-1SU
END:DAYLIGHT
BEGIN:STANDARD
TZOFFSETFROM:+0100
TZOFFSETTO:+0000
TZNAME:GMT
DTSTART:20211031T020000Z
RRULE:FREQ=YEARLY;BYMONTH=10;BYDAY=-1SU
END:STANDARD
END:VTIMEZONE
BEGIN:VEVENT
SUMMARY:Weekly Open Games 03.12.2021 - 04.12.2021
DTSTAMP:20211128T183728Z
SEQUENCE:0
UID:919-1-5734b46ed07498cf109a779f6d92c724@wogames.info
ORGANIZER;CN="WOGlNFO":no-reply@wogames.info
DESCRIPTION:\n\n	  Cторона 1: KND + 5THPK + FFA + LG + SSOT + T
	SN + CTU + GHOST + L13 + A+   |  Сторона 2: SF + BE + FRWL +
	 FOX + ALC + DT + JW + MOR + SRR + COBALT + JK\n\n\n\n	 \n\n\n\n	
	В пятницу 03.12.2021 играем:\n\n\n\n	1. Nord Stre
	am Bundeswehr - ВС РФ [Остров - НАПФ] С
	торона 1 в Обороне\n\n\n\n	2. Sandstorm Security Forces
	 - Insurgency Forces [Остров - ФАТА] Ст
	орона 1 в Атаке\n\n\n\n	3. 
	По количеству игроков\n\n\n\n	Игро
	вой администратор - [FOX]visu\n\n\n\n	 \n\n
	\n\n	В субботу 04.12.2021 играем:\n\n\n\n	1. Odd Pai
	r US Army + AAF - ВС РФ [Остров - Алтис
	] Сторона 1 в Атаке\n\n\n\n	2. Lo
	ose Ends Лоялисты + ОТГ-
	141 - Ультранациона
	листы [Остров - Чернорусси
	я 2020] Сторона 1 в Обороне\n\n\
	n\n	3. По количеству игроков\n\n\n
	\n	Игровой администратор - [KND]Dekfor \
	n\n\n\n	 \n\n\n\n	Командование:\n\n\n\n	\n\n\
	n	 \n\n\n\n	 Внимание
	! Миссии могут быть о
	бновлены в течение
	 недели! Следите з
	а темами!\n\n\n\n	Техническа
	я информация для подключения:\n\n\n\n
		\n		Спойлер\n	\n\n	\n		\n			IP игрового сервера: 8
	8.99.69.243\n		\n\n		\n			Порт игрового сервера
	: 63089\n\n			Пароль: wogames \n		\n\n		\n			TeamSpeak сер
	вер: wogames.info:9987\n		\n\n		\n			Строка Запуска:\n		\
	n\n		\n			-mod=@CUP_Terrains_Core\;@CUP_Terrains_Maps\;@RHSGREF\;@RHSSAF\;
	@RHSUSAF\;@RHSAFRF\;@WOG_ACE\;@WOG_Mods\;@WOG_BAF\;@WOG_BW\;@WOG_Islands\;
	@YuEmod\;@TFAR\;\n		\n\n		\n			Репозиторий (Arma3Synс):\n		\n\
	n		\n			http://88.99.69.232:8080/.a3s/autoconfig\n		\n	\n\n
DTSTART:20211203T180000Z
DTEND:20211204T200000Z
END:VEVENT
END:VCALENDAR
