BEGIN:VCALENDAR
VERSION:2.0
PRODID:-//IP.Board Calendar 4.3.6//EN
METHOD:PUBLISH
CALSCALE:GREGORIAN
X-WR-CALNAME:WOG
BEGIN:VTIMEZONE
TZID:Europe/London
TZURL:http://tzurl.org/zoneinfo/Europe/London
X-LIC-LOCATION:Europe/London
BEGIN:DAYLIGHT
TZOFFSETFROM:+0000
TZOFFSETTO:+0100
TZNAME:BST
DTSTART:20210328T020000Z
RRULE:FREQ=YEARLY;BYMONTH=3;BYDAY=-1SU
END:DAYLIGHT
BEGIN:STANDARD
TZOFFSETFROM:+0100
TZOFFSETTO:+0000
TZNAME:GMT
DTSTART:20211031T020000Z
RRULE:FREQ=YEARLY;BYMONTH=10;BYDAY=-1SU
END:STANDARD
END:VTIMEZONE
BEGIN:VEVENT
SUMMARY:Weekly Open Games 24.09.2021 - 25.09.2021
DTSTAMP:20210919T200332Z
SEQUENCE:0
UID:909-1-5734b46ed07498cf109a779f6d92c724@wogames.info
ORGANIZER;CN="WOGlNFO":no-reply@wogames.info
DESCRIPTION:\n\n	                  Cторона 1: KND + S
	SOT + CU + JW + TSN + MOR + ALC + FRWL + SF + DT + SRR   |  С
	торона 2: 5THPK + GHOST + JK + L13 + CTU + FOX + LG +  BE + COB
	ALT + 7TH + FFA + A+\n\n\n\n	 \n\n\n\n	В пятницу 24.09.202
	1 играем:\n\n\n\n	1. Soviet Assault ВС СССР - US
	 Army  [Остров - Rosche] Сторона 1 в Атаке\n\n\n\
	n	2. The Royal End  Takistan Army - Боевики  [О
	стров - Takistan] Сторона 1 в Обо
	роне\n\n\n\n	3. По количеству 
	игроков\n\n\n\n	Игровой администратор - 
	[FOX]visu\n\n\n\n	 \n\n\n\n	В субботу 25.09.2021 иг
	раем:\n\n\n\n	1. Броненосец ВС 
	РФ - Сепаратисты + ЧВК [Остров -
	 Chernarus Summer] Сторона 1 в Обороне\n\n\n\n	2. 
	Bush War KANU - ZSF  [Остров - Kujari] Сторо
	на 1 в Атаке\n\n\n\n	3. По 
	количеству игроков\n\n\n\n	Игровой а
	дминистратор - [FOX]visu\n\n\n\n	 \n\n\n\n	Кома
	ндование:\n\n\n\n	\n\n\n	
	Внимание! Мис
	сии могут быть обновлен
	ы в течение недели! Следите
	 за темами!\n\n\n\n	 \n\n\n\n	
	Техническая информация для подкл
	ючения:\n\n\n\n	\n		Спойлер\n	\n\n	\n		\n			I
	P игрового сервера: 88.99.69.243\n		\n
	\n		\n			Порт игрового сервера: 63089\n\n			Па
	роль: wogames \n		\n\n		\n			TeamSpeak сервер: wogames.info:9
	987\n		\n\n		\n			Строка Запуска:\n		\n\n		\n			-mod=@CUP_Ter
	rains_Core\;@CUP_Terrains_Maps\;@RHSGREF\;@RHSSAF\;@RHSUSAF\;@RHSAFRF\;@WO
	G_ACE\;@WOG_Mods\;@WOG_BAF\;@WOG_BW\;@WOG_Islands\;@YuEmod\;@TFAR\;\n		\n\
	n		\n			Репозиторий (Arma3Synс):\n		\n\n		\n			http://88.99.69
	.232:8080/.a3s/autoconfig\n		\n	\n\n\n\n	 \n\n
DTSTART:20210924T180000Z
DTEND:20210925T205900Z
END:VEVENT
END:VCALENDAR
