BEGIN:VCALENDAR
VERSION:2.0
PRODID:-//IP.Board Calendar 4.3.6//EN
METHOD:PUBLISH
CALSCALE:GREGORIAN
X-WR-CALNAME:WOG
BEGIN:VTIMEZONE
TZID:Europe/London
TZURL:http://tzurl.org/zoneinfo/Europe/London
X-LIC-LOCATION:Europe/London
BEGIN:DAYLIGHT
TZOFFSETFROM:+0000
TZOFFSETTO:+0100
TZNAME:BST
DTSTART:20210328T020000Z
RRULE:FREQ=YEARLY;BYMONTH=3;BYDAY=-1SU
END:DAYLIGHT
BEGIN:STANDARD
TZOFFSETFROM:+0100
TZOFFSETTO:+0000
TZNAME:GMT
DTSTART:20211031T020000Z
RRULE:FREQ=YEARLY;BYMONTH=10;BYDAY=-1SU
END:STANDARD
END:VTIMEZONE
BEGIN:VEVENT
SUMMARY:Weekly Open Games 10.09.2021 - 11.09.2021
DTSTAMP:20210905T191210Z
SEQUENCE:0
UID:906-1-5734b46ed07498cf109a779f6d92c724@wogames.info
ORGANIZER;CN="WOGlNFO":no-reply@wogames.info
DESCRIPTION:\n\n	                 Cторона 1: KND + SSOT
	 + CU + JW + TSN + MOR + ALC + FRWL + SF + DT + SRR   |  Стор
	она 2: 5THPK + GHOST + JK + L13 + CTU + FOX + LG +  BE + COBALT + 
	7TH + FFA + A+\n\n\n\n	В пятницу 10.09.2021 играем:\n\n\n\
	n	1. Spear Strike US ARMY - SLA [Остров - 
	Сахран﻿и] Сторона 1 в Атаке\n\n\n\n	2. Hea
	rt of Darkness USMC - ВС РФ [Остров - Ка
	рибу] Сторона 1 в Обороне\n\
	n\n\n	3. По количеству игроков\n\n\
	n\n	Игровой администратор - [JW]MEDVEPUT\n\n\
	n\n	 \n\n\n\n	В субботу 11.09.2021 играем:\n\n\n\
	n	1. Иншалах Iraq Army - Бое
	вики [Остров - Фалуджа] Сторона 1 в Об
	ороне\n\n\n\n	2. Fool's Road Russian Ground Forces - Irregular 
	Militia [Остров - Hellanmaa Winter]  Сторона 
	1 в Атаке\n\n\n\n	3. По колич
	еству игроков\n\n\n\n	Игровой администрат
	ор - [KND]Dekfor\n\n\n\n	 \n\n\n\n	Командование:\n\n\n\n	\
	n\n	 \n\n
DTSTART:20210910T180000Z
DTEND:20210911T210000Z
END:VEVENT
END:VCALENDAR
