BEGIN:VCALENDAR
VERSION:2.0
PRODID:-//IP.Board Calendar 4.3.6//EN
METHOD:PUBLISH
CALSCALE:GREGORIAN
X-WR-CALNAME:WOG
BEGIN:VTIMEZONE
TZID:Europe/London
TZURL:http://tzurl.org/zoneinfo/Europe/London
X-LIC-LOCATION:Europe/London
BEGIN:DAYLIGHT
TZOFFSETFROM:+0000
TZOFFSETTO:+0100
TZNAME:BST
DTSTART:20210328T020000Z
RRULE:FREQ=YEARLY;BYMONTH=3;BYDAY=-1SU
END:DAYLIGHT
BEGIN:STANDARD
TZOFFSETFROM:+0100
TZOFFSETTO:+0000
TZNAME:GMT
DTSTART:20211031T020000Z
RRULE:FREQ=YEARLY;BYMONTH=10;BYDAY=-1SU
END:STANDARD
END:VTIMEZONE
BEGIN:VEVENT
SUMMARY:Weekly Open Games 27.08.2021 - 28.08.2021
DTSTAMP:20210822T193747Z
SEQUENCE:0
UID:903-1-5734b46ed07498cf109a779f6d92c724@wogames.info
ORGANIZER;CN="WOGlNFO":no-reply@wogames.info
DESCRIPTION:\n\n	                 Cторона 1: KND + SSO
	T + CU + JW + TSN + MOR + ALC + FRWL + SF + DT + SRR   |  Сто
	рона 2: 5THPK + GHOST + JK + L13 + CTU + FOX + LG +  BE + COBALT 
	+ 7TH + FFA + A+\n\n\n\n	В пятницу 27.08.2021 играем:\n\n\
	n\n	1. Future War 198X ВС СССР - USAREUR [Ост
	ров - vt7] Сторона 1 в Атаке\n\n\n\n	2. Sandstorm Sec
	urity Forces - Insurgency Forces [Остров - ФАТ
	А] Сторона 1 в Обороне\n\n\n\
	n	3. По количеству игроков\n\n\n\n	
	Игровой администратор - [FOX]visu\n\n\n\n	 
	\n\n\n\n	В субботу 28.08.2021 играем:\n\n\n\n	1. Dese
	rt Arrow АОР - USMC [Остров - Решма
	н] Сторона 1 в Обороне\n
	\n\n\n	2. Зубчатка ВВ 
	МВД РФ - Боевики [Остров 
	- Подагорск] Сторона 1 в Атаке
	\n\n\n\n	3. По количеству игроков\n
	\n\n\n	Игровой администратор - [GHOST]sup
	\n\n\n\n	 \n\n\n\n	Командование:\n\n\n\
	n	\n\n\n	Внимание! М
	иссии могут быть обн
	овлены в течение н
	едели! Следите за т
	емами!\n\n\n\n	Техническая 
	информация для подключения:\n\n\n\n	
	\n		Спойлер\n	\n\n	\n		\n			IP игрового сервера: 88.
	99.69.243\n		\n\n		\n			Порт игрового сервера: 63
	089\n\n			Пароль: wogames \n\n			TeamSpeak сервер: wogames.in
	fo:9987\n		\n\n		\n			Строка Запуска:\n		\n\n		\n			-mod=@CUP
	_Terrains_Core\;@CUP_Terrains_Maps\;@RHSGREF\;@RHSSAF\;@RHSUSAF\;@RHSAFRF\
	;@WOG_ACE\;@WOG_Mods\;@WOG_BAF\;@WOG_BW\;@WOG_Islands\;@YuEmod\;@TFAR\;\n	
		\n\n		\n			Репозиторий (Arma3Synс):\n		\n\n		\n			http://88.9
	9.69.232:8080/.a3s/autoconfig\n		\n	\n\n\n\n	 \n\n
DTSTART:20210827T180000Z
DTEND:20210828T190000Z
END:VEVENT
END:VCALENDAR
