BEGIN:VCALENDAR
VERSION:2.0
PRODID:-//IP.Board Calendar 4.3.6//EN
METHOD:PUBLISH
CALSCALE:GREGORIAN
X-WR-CALNAME:WOG
BEGIN:VTIMEZONE
TZID:Europe/London
TZURL:http://tzurl.org/zoneinfo/Europe/London
X-LIC-LOCATION:Europe/London
BEGIN:DAYLIGHT
TZOFFSETFROM:+0000
TZOFFSETTO:+0100
TZNAME:BST
DTSTART:20210328T020000Z
RRULE:FREQ=YEARLY;BYMONTH=3;BYDAY=-1SU
END:DAYLIGHT
BEGIN:STANDARD
TZOFFSETFROM:+0100
TZOFFSETTO:+0000
TZNAME:GMT
DTSTART:20211031T020000Z
RRULE:FREQ=YEARLY;BYMONTH=10;BYDAY=-1SU
END:STANDARD
END:VTIMEZONE
BEGIN:VEVENT
SUMMARY:Weekly Open Games 04.06.2021 - 05.06.2021
DTSTAMP:20210530T185125Z
SEQUENCE:0
UID:891-1-5734b46ed07498cf109a779f6d92c724@wogames.info
ORGANIZER;CN="Lankaster":no-reply@wogames.info
DESCRIPTION:\n\n	                        Cторона 1:
	 KND + SSOT + CU + JW + TSN + MOR + ALC + FRWL + SF + DT   
	|  Сторона 2: 5THPK + GHOST + JK + L13 + CTU + FOX + LG +  B
	E + COBALT + 7TH + FFA + A+\n\n\n\n	В пятницу 04.06.2021 иг
	раем:\n\n\n\n	1. Обелиск USMC - ВС РФ [
	Остров - Podagorsk] Сторона 1 в Атаке\n\n\n\n	2. Joi
	nt exercise USMC + BAF - OPFOR [Остров - Caribou Front
	ier] Сторона 1 в Обороне\n\n\n\n
		3. По количеству игроков\n\n\n\n	
	Игровой администратор - [JW]Setris \n\n\n\n	
	 \n\n\n\n	В субботу 05.06.2021 играем:\n\n\n\n	1. Liber
	ation is Ahead! ВС РФ - BAF [Остров - Beketov]
	 Сторона 1 в Обороне\n\n\n\
	n	2. База Хассадар Боевики - 
	ВС РФ [Остров - FATA] Сторона 
	1 в Атаке\n\n\n\n	3. По колич
	еству игроков\n\n\n\n	Игровой администр
	атор - [ALC]Erron \n\n\n\n	 \n\n\n\n	Командован
	ие:\n\n\n	 \n\n\n\n	Внима
	ние! Миссии могут 
	быть обновлены в те
	чение недели! След
	ите за темами!\n\n\n\n	Техн
	ическая информация для подключения:
	\n\n	 \n\n\n\n	\n		Спойлер\n	\n\n	\n		\n			IP игров
	ого сервера: 88.99.69.243\n		\n\n		\n			Порт 
	игрового сервера: 63089\n\n			Пароль: wogames 
	\n\n			TeamSpeak сервер: wogames.info:9987\n		\n\n		\n	
			Строка Запуска:\n		\n\n		\n			-mod=@CUP_Terrains_Core\;@CUP
	_Terrains_Maps\;@RHSGREF\;@RHSSAF\;@RHSUSAF\;@RHSAFRF\;@WOG_ACE\;@WOG_Mods
	\;@WOG_BAF\;@WOG_BW\;@WOG_Islands\;@YuEmod\;@TFAR\;\n		\n\n		\n			
	Репозиторий (Arma3Synс):\n		\n\n		\n			http://88.99.69.232:808
	0/.a3s/autoconfig\n		\n	\n\n\n\n	 \n\n
DTSTART:20210604T180000Z
DTEND:20210605T185900Z
END:VEVENT
END:VCALENDAR
