BEGIN:VCALENDAR
VERSION:2.0
PRODID:-//IP.Board Calendar 4.3.6//EN
METHOD:PUBLISH
CALSCALE:GREGORIAN
X-WR-CALNAME:WOG
BEGIN:VTIMEZONE
TZID:Europe/London
TZURL:http://tzurl.org/zoneinfo/Europe/London
X-LIC-LOCATION:Europe/London
BEGIN:DAYLIGHT
TZOFFSETFROM:+0000
TZOFFSETTO:+0100
TZNAME:BST
DTSTART:20150329T020000Z
RRULE:FREQ=YEARLY;BYMONTH=3;BYDAY=-1SU
END:DAYLIGHT
BEGIN:STANDARD
TZOFFSETFROM:+0100
TZOFFSETTO:+0000
TZNAME:GMT
DTSTART:20151025T020000Z
RRULE:FREQ=YEARLY;BYMONTH=10;BYDAY=-1SU
END:STANDARD
END:VTIMEZONE
BEGIN:VEVENT
SUMMARY:mWOG² IF 22.01.15
DTSTAMP:20150119T172046Z
SEQUENCE:0
UID:89-1-5734b46ed07498cf109a779f6d92c724@wogames.info
ORGANIZER;CN="ToxaSM":no-reply@wogames.info
DESCRIPTION:\n\nВсем привет\,\nВ четверг 2
	2 Января в 21:00 (МСК) на WOG Iron Front S
	erver #1 сервере пройдёт игра по Iron Fro
	nt: Arma3\, \nДанные сервера\nIP: 193.19.118.182 Po
	rt: 2322\nСбор в нашем новом ТC‘е в 20:45 ( IP: 193.19
	.119.188 Port: 9987 Pass: 1945 )\nПОВТОРНО 
	РЕГИСТРИРОВАТЬСЯ НЕ НУЖНО\n\n\n\nСсыл
	ка ArmA3Sync на Lite версию:\nftp://wogames.info/ArmA3Sync/IF_Li
	te/.a3s/autoconfig\nСсылка ArmA3Sync на полную версию*
	:\nftp://wogames.info/ArmA3Sync/IF\n*Толь
	ко обладателям оригинальной игры 
	Iron Front Liberation 1944. За полу
	чением логина
	 и пароля обращайтес
	ь ко мне в личку.\nИнструк
	ция по использованию ArmA3Sync доступна тут\n
	\n\n
DTSTART;VALUE=DATE:20150122
END:VEVENT
END:VCALENDAR
