BEGIN:VCALENDAR
VERSION:2.0
PRODID:-//IP.Board Calendar 4.3.6//EN
METHOD:PUBLISH
CALSCALE:GREGORIAN
X-WR-CALNAME:WOG
BEGIN:VTIMEZONE
TZID:Europe/London
TZURL:http://tzurl.org/zoneinfo/Europe/London
X-LIC-LOCATION:Europe/London
BEGIN:DAYLIGHT
TZOFFSETFROM:+0000
TZOFFSETTO:+0100
TZNAME:BST
DTSTART:20210328T020000Z
RRULE:FREQ=YEARLY;BYMONTH=3;BYDAY=-1SU
END:DAYLIGHT
BEGIN:STANDARD
TZOFFSETFROM:+0100
TZOFFSETTO:+0000
TZNAME:GMT
DTSTART:20211031T020000Z
RRULE:FREQ=YEARLY;BYMONTH=10;BYDAY=-1SU
END:STANDARD
END:VTIMEZONE
BEGIN:VEVENT
SUMMARY:Weekly Open Games 30.04.2020 - 01.05.2020
DTSTAMP:20210425T183327Z
SEQUENCE:0
UID:886-1-5734b46ed07498cf109a779f6d92c724@wogames.info
ORGANIZER;CN="Oubi":no-reply@wogames.info
DESCRIPTION:\n\n	Cторона 1: KND + SSOT + CU + JW + TS + MOR + A
	LC + FRWL + SF + DT   |  Сторона 2: 5THPK + GHOST  + JK + L
	13 + CTU + FOX + LG +  BE + COBALT + 7TH + A+\n\n\n\n	В пятницу 
	30.04.2021 играем:\n\n\n\n	1. Rebel Wave HIDF - Tanoan Liber
	ation Army [Остров - Colombia] Сторона 1
	 в Атаке\n\n\n\n	2. Четыре стихии В
	С РФ - USMC [Остров - Capraia] Сторо
	на 1 в Обороне\n\n\n\n	3. По
	 количеству игроков\n\n\n\n	Игровой 
	администратор - [FOX] visu\n\n\n\n	 \n\n\n\n	
	В субботу 01.05.2021 играем:\n\n\n\n	1. Beyond Ho
	pe FIA - AAF [Остров - Altis] Сторона 1 в Оборон
	е\n\n\n\n	2. Operation Greenlight﻿ ВС СССР - US Army [
	Остров - Vinjesvingen] Сторона 1 в 
	Атаке\n\n\n\n	3. По количест
	ву игроков\n\n\n\n	Игровой админ
	истратор -  [FOX] visu\n\n\n\n	Командовани
	е:\n\n\n\n	\n\n\n\n	Внимани
	е! Миссии могут быть
	 обновлены в течени
	е недели! Следите 
	за темами!\n\n\n\n	Техническ
	ая информация для подключения:\n\n\n\
	n	\n		Спойлер\n	\n\n	\n		\n			IP игрового сервера: 8
	8.99.69.243\n		\n\n		\n			Порт игрового сервера: 
	63089\n\n			Пароль: wogames \n\n			TeamSpeak сервер: wogames.
	info:9987\n		\n\n		\n			Строка Запуска:\n		\n\n		\n			-mod=@C
	UP_Terrains_Core\;@CUP_Terrains_Maps\;@RHSGREF\;@RHSSAF\;@RHSUSAF\;@RHSAFR
	F\;@WOG_ACE\;@WOG_Mods\;@WOG_BAF\;@WOG_BW\;@WOG_Islands\;@YuEmod\;@TFAR\;\
	n		\n\n		\n			Репозиторий (Arma3Synс):\n		\n\n		\n			http://88
	.99.69.232:8080/.a3s/autoconfig\n		\n	\n\n\n\n	 \n\n
DTSTART:20210429T210000Z
DTEND:20210501T210000Z
END:VEVENT
END:VCALENDAR
