BEGIN:VCALENDAR
VERSION:2.0
PRODID:-//IP.Board Calendar 4.3.6//EN
METHOD:PUBLISH
CALSCALE:GREGORIAN
X-WR-CALNAME:WOG
BEGIN:VTIMEZONE
TZID:Europe/London
TZURL:http://tzurl.org/zoneinfo/Europe/London
X-LIC-LOCATION:Europe/London
BEGIN:DAYLIGHT
TZOFFSETFROM:+0000
TZOFFSETTO:+0100
TZNAME:BST
DTSTART:20150329T020000Z
RRULE:FREQ=YEARLY;BYMONTH=3;BYDAY=-1SU
END:DAYLIGHT
BEGIN:STANDARD
TZOFFSETFROM:+0100
TZOFFSETTO:+0000
TZNAME:GMT
DTSTART:20151025T020000Z
RRULE:FREQ=YEARLY;BYMONTH=10;BYDAY=-1SU
END:STANDARD
END:VTIMEZONE
BEGIN:VEVENT
SUMMARY:VTN ARMA 3
DTSTAMP:20150119T092707Z
SEQUENCE:0
UID:88-1-5734b46ed07498cf109a779f6d92c724@wogames.info
ORGANIZER;CN="ToxaSM":no-reply@wogames.info
DESCRIPTION:\nБлижайшие игры: Вторник 20.0
	1.15 в 20:00 (мск)\nСервер: 193.19.118.182:2332\nTeamSpeak: Red
	Eagle.ru\nЗадача: Н
	аладить органи
	зацию в масштабе усил
	енной роты\nОтрабатыв
	аем на миссии:\n\n\n\nВ
	С РФ:\nОШС: Деса
	нтно-штурмовая
	 рота\nКоординация
	: Офицеры\nНавигац
	ия: Командир роты\n
	СБ-ВМА:\nОШС: Ст
	релковый взвод\
	nКоординация: Офицеры / сержанты\nНавига
	ция: Отсутствует\n\n\n
DTSTART;VALUE=DATE:20150120
END:VEVENT
END:VCALENDAR
