BEGIN:VCALENDAR
VERSION:2.0
PRODID:-//IP.Board Calendar 4.3.6//EN
METHOD:PUBLISH
CALSCALE:GREGORIAN
X-WR-CALNAME:WOG
BEGIN:VTIMEZONE
TZID:Europe/London
TZURL:http://tzurl.org/zoneinfo/Europe/London
X-LIC-LOCATION:Europe/London
BEGIN:DAYLIGHT
TZOFFSETFROM:+0000
TZOFFSETTO:+0100
TZNAME:BST
DTSTART:20210328T020000Z
RRULE:FREQ=YEARLY;BYMONTH=3;BYDAY=-1SU
END:DAYLIGHT
BEGIN:STANDARD
TZOFFSETFROM:+0100
TZOFFSETTO:+0000
TZNAME:GMT
DTSTART:20211031T020000Z
RRULE:FREQ=YEARLY;BYMONTH=10;BYDAY=-1SU
END:STANDARD
END:VTIMEZONE
BEGIN:VEVENT
SUMMARY:Weekly Open Games 15.01.2021 - 16.01.2021
DTSTAMP:20210110T190537Z
SEQUENCE:0
UID:871-1-5734b46ed07498cf109a779f6d92c724@wogames.info
ORGANIZER;CN="BB_STOP":no-reply@wogames.info
DESCRIPTION:\n\n	Cторона 1: KND + FRWL + MOR + FOX + GHOST + LG 
	+ TSN + ALC + JW + 7TH   |  Сторона 2: SF + JK  + CU + SSOT 
	+ 5THPK + OSN + DT + CTU + L13 + BE + A+\n\n\n\n	В пятницу 1
	5.01.2021 играем:\n\n\n\n	1. Border US Army
	 - ВС РФ [Остров - Алтис] Сто
	рона 1 в Атаке\n\n\n\n	2.
	 Тайга ЧСО - ЧДКЗ [Остров
	 - Черноруссия] Сторона 1 в 
	Обороне\n\n\n\n	3. По количе
	ству игроков\n\n\n\n	Игровой админи
	стратор - [KND]Emty\n\n\n\n	В субботу 16.01.2021 иг
	раем:\n\n\n\n	1. White Haze МП ВС РФ 
	- USMC [Остров - Напф (Зимний
	)] Сторона 1 в Обороне\n\n\
	n\n	2. Не к добру﻿ Афганска
	я армия + ВС РФ  - US Army [Остров 
	- Клафган] Сторона 1 в Ата
	ке\n\n\n\n	3. По количеству игрок
	ов\n\nИгровой администратор - [
	KND]FlayeR\n\n\n\n	Резервна
	я миссия в случае невз
	лёта первой миссии в
	 пятницу:\n\n\n\n	1. Вил
	ла Абу Хаджара﻿ США ﻿ -
	 ВС РФ [Остров - Литиум] \n\n\
	n\n	\nКомандование:\n\n
	\n\n	Внимание! Ми
	ссии могут быть обно
	влены в течение нед
	ели! Следите за темам
	и!\n\n\n\n	Техническая информаци
	я для подключения:\n\n	 \n\n\n\n	\n		Спойл
	ер\n	\n\n	\n		\n			IP игрового сервера: 88.99.69.24
	3\n		\n\n		\n			Порт игрового сервера: 63089\n\n
				Пароль: wogames \n\n			TeamSpeak сервер: wogames.info:9987
	\n		\n\n		\n			Строка Запуска:\n		\n\n		\n			-mod=@CUP_Terrai
	ns_Core\;@CUP_Terrains_Maps\;@RHSGREF\;@RHSSAF\;@RHSUSAF\;@RHSAFRF\;@WOG_A
	CE\;@WOG_Mods\;@WOG_BAF\;@WOG_BW\;@WOG_Islands\;@YuEmod\;@TFAR\;\n		\n\n		
	\n			Репозиторий (Arma3Synс):\n		\n\n		\n			http://88.99.69.23
	2:8080/.a3s/autoconfig\n		\n	\n\n\n\n	 \n\n
DTSTART:20210115T180000Z
DTEND:20210116T185900Z
END:VEVENT
END:VCALENDAR
