BEGIN:VCALENDAR
VERSION:2.0
PRODID:-//IP.Board Calendar 4.3.6//EN
METHOD:PUBLISH
CALSCALE:GREGORIAN
X-WR-CALNAME:WOG
BEGIN:VTIMEZONE
TZID:Europe/London
TZURL:http://tzurl.org/zoneinfo/Europe/London
X-LIC-LOCATION:Europe/London
BEGIN:DAYLIGHT
TZOFFSETFROM:+0000
TZOFFSETTO:+0100
TZNAME:BST
DTSTART:20150329T020000Z
RRULE:FREQ=YEARLY;BYMONTH=3;BYDAY=-1SU
END:DAYLIGHT
BEGIN:STANDARD
TZOFFSETFROM:+0100
TZOFFSETTO:+0000
TZNAME:GMT
DTSTART:20151025T020000Z
RRULE:FREQ=YEARLY;BYMONTH=10;BYDAY=-1SU
END:STANDARD
END:VTIMEZONE
BEGIN:VEVENT
SUMMARY:Iron Front: Hard Mode
DTSTAMP:20150116T153654Z
SEQUENCE:0
UID:87-1-5734b46ed07498cf109a779f6d92c724@wogames.info
ORGANIZER;CN="ToxaSM":no-reply@wogames.info
DESCRIPTION:\nВ Воскресенье 18 
	Января в 21:00 (МСК) проводится 
	серьезная игра на сервере\nARMA2.RU *Hard Mod
	e* Iron Front \nIP Сервера: 81.88.208.221:2302
	\n\nДля регистраци
	и на проекте\, н
	еобходимо:\n- пр
	очитать правила и отписать
	ся в данной теме.\n- Оригинальный Iron F
	ront: Liberation 1944\n- Установленный и 
	настроенный ТС3 версии 3.0.0 
	beta36 4.6.2 \nс подклю
	ченным плагин
	ом\nОБРАТИТЕ ВНИМАНИЕ ЧТ
	О ИЗМЕНИЛСЯ АДРЕС НАШЕГО ТИМСПИКА
	 !  !  !  !  !\nНовый Team Speak проекта: IP: 193.19.119.188 P
	ort: 9987\, пароль: 1945\n
DTSTART;VALUE=DATE:20150118
END:VEVENT
END:VCALENDAR
