BEGIN:VCALENDAR
VERSION:2.0
PRODID:-//IP.Board Calendar 4.3.6//EN
METHOD:PUBLISH
CALSCALE:GREGORIAN
X-WR-CALNAME:WOG
BEGIN:VTIMEZONE
TZID:Europe/London
TZURL:http://tzurl.org/zoneinfo/Europe/London
X-LIC-LOCATION:Europe/London
BEGIN:DAYLIGHT
TZOFFSETFROM:+0000
TZOFFSETTO:+0100
TZNAME:BST
DTSTART:20210328T020000Z
RRULE:FREQ=YEARLY;BYMONTH=3;BYDAY=-1SU
END:DAYLIGHT
BEGIN:STANDARD
TZOFFSETFROM:+0100
TZOFFSETTO:+0000
TZNAME:GMT
DTSTART:20211031T020000Z
RRULE:FREQ=YEARLY;BYMONTH=10;BYDAY=-1SU
END:STANDARD
END:VTIMEZONE
BEGIN:VEVENT
SUMMARY:Weekly Open Games 02.01.2021 - 04.01.2021
DTSTAMP:20201227T190751Z
SEQUENCE:0
UID:869-1-5734b46ed07498cf109a779f6d92c724@wogames.info
ORGANIZER;CN="Sharif":no-reply@wogames.info
DESCRIPTION:\n\n	Cторона 1: KND + FRWL + MOR + FOX + GHOST + LG 
	+ TSN + ALC + JW + 7TH   |  Сторона 2: SF + JK  + CU + SSOT 
	+ 5THPK + OSN + DT + CTU + L13 + BE + A+\n\n\n\n	Ува
	жаемые игроки\, обрати
	те внимание\, что 01.01.2021
	 будет проводиться нов
	огодний ивент от -[SF]- 
	TRUE. Также просим 
	обратить вниман
	ие\, что был добавлен игр
	овой день 4 января\, в понедельни
	к!\n\n\n\n	В субботу 02.01.2021 играем:\n\
	n\n\n	1. Система ПРО ВС РФ - US Army [О
	стров - Celle] Сторона 1 в Атак
	е\n\n\n\n	2. Уругал ВС СССР - Т
	алибан [Остров - FATA] Сторон
	а 1 в Обороне\n\n\n\n	3. По 
	количеству игроков\n\n\n\n	Игровой
	 администратор - [DT]SaLeeN\n\n\n\n	В вос
	кресенье 03.01.2021 играем:\n\n\n\n	1. Operation \"Night
	 Ravens\" BAF - MAF [Остров - Stratis] Сторона 
	1 в Обороне\n\n\n\n	2. Атака Заргабада US Ar
	my - Takistan Army [Остров - Zargabad] Сторона 1 
	в Атаке\n\n\n\n	3. По количес
	тву игроков\n\n\n\n	Игровой админис
	тратор - [KND]Dekfor\n\n\n\n	В понедельник 04.01
	.2021 играем:\n\n\n\n	1. Бархатный сезон 
	ООН - Iraq Army [Остров - Sahrani Southern] Сторо
	на 1 в Атаке\n\n\n\n	2. Boloto ВС РФ - Боевики [
	Остров - Chernarus Winter] Сторона 1 в 
	Обороне\n\n\n\n	3. По количе
	ству игроков\n\n\n\n	Игровой адми
	нистратор - [SSOT]Otto\n\n\n\n	Команд
	ование:\n\n\n\n\n	Вним
	ание! Миссии могу
	т быть обновлены в т
	ечение недели! Сле
	дите за темами!\n\n\n\n	Тех
	ническая информация для подключения
	:\n\n\n\n	\n		Спойлер\n	\n\n	\n		\n			IP игрового се
	рвера: 88.99.69.243\n		\n\n		\n			Порт игрово
	го сервера: 63089\n\n			Пароль: wogames \n\n			TeamS
	peak сервер: wogames.info:9987\n		\n\n		\n			Строка Зап
	уска:\n		\n\n		\n			-mod=@CUP_Terrains_Core\;@CUP_Terrains_Maps\;@RHSG
	REF\;@RHSSAF\;@RHSUSAF\;@RHSAFRF\;@WOG_ACE\;@WOG_Mods\;@WOG_BAF\;@WOG_BW\;
	@WOG_Islands\;@YuEmod\;@TFAR\;\n		\n\n		\n			Репозиторий (Arma
	3Synс):\n		\n\n		\n			http://88.99.69.232:8080/.a3s/autoconfig\n		\n	\n\n
DTSTART:20210102T180000Z
DTEND:20210104T180000Z
END:VEVENT
END:VCALENDAR
