BEGIN:VCALENDAR
VERSION:2.0
PRODID:-//IP.Board Calendar 4.3.6//EN
METHOD:PUBLISH
CALSCALE:GREGORIAN
X-WR-CALNAME:WOG
BEGIN:VTIMEZONE
TZID:Europe/London
TZURL:http://tzurl.org/zoneinfo/Europe/London
X-LIC-LOCATION:Europe/London
BEGIN:DAYLIGHT
TZOFFSETFROM:+0000
TZOFFSETTO:+0100
TZNAME:BST
DTSTART:20200329T020000Z
RRULE:FREQ=YEARLY;BYMONTH=3;BYDAY=-1SU
END:DAYLIGHT
BEGIN:STANDARD
TZOFFSETFROM:+0100
TZOFFSETTO:+0000
TZNAME:GMT
DTSTART:20201025T020000Z
RRULE:FREQ=YEARLY;BYMONTH=10;BYDAY=-1SU
END:STANDARD
END:VTIMEZONE
BEGIN:VEVENT
SUMMARY:Weekly Open Games 11.12.2020 - 12.12.2020
DTSTAMP:20201206T180912Z
SEQUENCE:0
UID:866-1-5734b46ed07498cf109a779f6d92c724@wogames.info
ORGANIZER;CN="Oubi":no-reply@wogames.info
DESCRIPTION:\n\n	Cторона 1: KND + FRWL + MOR + FOX + GHOST + LG 
	+ TSN + ALC + JW + 7TH   |  Сторона 2: SF + JK  + CU + SSOT 
	+ 5THPK + OSN + DT + CTU + L13 + BE + A+\n\n\n\n	В пятницу 1
	1.12.2020 играем:\n\n\n\n	1. Грехи 
	отцов 2011 ВС РФ+SAS 
	- Ультранационалисты [Остров
	 - Бекетов] Сторона 1 в Атаке\n\n\n\n	2. Vigilant 
	Resolve US Army+USMC - Боевики [Ост
	ров - Фалуджа] Сторона 1 в Об
	ороне\n\n\n\n	3. По количеству
	 игроков\n\n\n\n	Игровой администратор - [D
	T]SaleeN\n\n\n\n	 \n\n\n\n	В субботу 12.12.2020 игра
	ем:\n\n\n\n	1. Битва за Кавалу
	 ВС РФ - NATO [Остров - Алти
	с] Сторона 1 в Обороне\n\n\n\n
		2. Выбор ВС РФ - USMC [Ост
	ров - Чернарусь (летняя)]
	 Сторона 1 в Атаке\n\n\n\n	3
	. По количеству игроков\n\n\n\n	Игр
	овой администратор - [SSOT]Otto\n\n\n\n	Ко
	мандование:\n\n\n\n	\n\n\n
	\n	Внимание! Ми
	ссии могут быть обно
	влены в течение нед
	ели! Следите за темам
	и!\n\n\n\n	Техническая информаци
	я для подключения:\n\n	 \n\n\n\n	\n		Спойлер\n	\n\
	n	\n		\n			 \n		\n\n		\n			IP игрового сервера: 88.99.69.2
	43\n		\n\n		\n			Порт игрового сервера: 63089\n\
	n			Пароль: wogames \n\n			TeamSpeak сервер: wogames.info:998
	7\n		\n\n		\n			Строка Запуска:\n		\n\n		\n			-mod=@CUP_Terra
	ins_Core\;@CUP_Terrains_Maps\;@RHSGREF\;@RHSSAF\;@RHSUSAF\;@RHSAFRF\;@WOG_
	ACE\;@WOG_Mods\;@WOG_BAF\;@WOG_BW\;@WOG_Islands\;@YuEmod\;@TFAR\;\n		\n\n	
		\n			Репозиторий (Arma3Synс):\n		\n\n		\n			http://88.99.69.2
	32:8080/.a3s/autoconfig\n		\n\n		\n			 \n		\n	\n\n\n\n	 \n\n
DTSTART:20201211T180000Z
DTEND:20201212T210000Z
END:VEVENT
END:VCALENDAR
