BEGIN:VCALENDAR
VERSION:2.0
PRODID:-//IP.Board Calendar 4.3.6//EN
METHOD:PUBLISH
CALSCALE:GREGORIAN
X-WR-CALNAME:WOG
BEGIN:VTIMEZONE
TZID:Europe/London
TZURL:http://tzurl.org/zoneinfo/Europe/London
X-LIC-LOCATION:Europe/London
BEGIN:DAYLIGHT
TZOFFSETFROM:+0000
TZOFFSETTO:+0100
TZNAME:BST
DTSTART:20200329T020000Z
RRULE:FREQ=YEARLY;BYMONTH=3;BYDAY=-1SU
END:DAYLIGHT
BEGIN:STANDARD
TZOFFSETFROM:+0100
TZOFFSETTO:+0000
TZNAME:GMT
DTSTART:20201025T020000Z
RRULE:FREQ=YEARLY;BYMONTH=10;BYDAY=-1SU
END:STANDARD
END:VTIMEZONE
BEGIN:VEVENT
SUMMARY:Weekly Open Games 13.11.2020 - 14.11.2020
DTSTAMP:20201109T180444Z
SEQUENCE:0
UID:861-1-5734b46ed07498cf109a779f6d92c724@wogames.info
ORGANIZER;CN="MaDnEss":no-reply@wogames.info
DESCRIPTION:\n\n	                           
	                Cторона 1: KND + FRWL + MOR + FOX + GHOST 
	+ LG + TSN + ALC + JW + CU   |  Сторона 2: SF + JK + SSOT +
	 5THPK + OSN + DT + CTU + L13 + BE + A+\n\n\n\n	В пятницу 1
	3.11.2020 играем:\n\n\n\n	1. Njet\, Lavroff! ВС РФ - NA
	TO [Остров - Hellanma (Winter)] Сторона 1 в Атаке\n
	\n\n\n	2. ﻿Balkan Thunder BAF + Bundeswehr - ВС РФ + SAF [О
	стров - Ruha] Сторона 1 в Обороне
	\n\n\n\n	3. По количеству игроков\n
	\n\n\n	Игровой администратор - [KND]Emty\n\n\
	n\n	 \n\n\n\n	В субботу 14.11.2020 играем:\n\n\n\n	1. 
	Broken wings ЧСО - ЧДКЗ [Остров - Chernarus]
	 Сторона 1 в Обороне\n\n\n\n	2. Вт
	орой удар ВС Турции - AAF [Остров -
	 Altis] Сторона 1 в Атаке\n\n\n\n
		3. По количеству игроков\n\n\n\n	И
	гровой администратор - [KND]Theory\n\n\n\
	n	Командование: \n\n\n\n	\
	n\n\n	Внимание! Ми
	ссии могут быть обно
	влены в течение нед
	ели! Следите за темам
	и!\n\n\n\n	Техническая информац
	ия для подключения:\n\n\n\n	\n		Спойл
	ер\n	\n\n	\n		\n			IP игрового сервера: 88.99.69.24
	3\n		\n\n		\n			Порт игрового сервера: 63089\n\n
				Пароль: wogames \n\n			TeamSpeak сервер: wogames.info:9987
	\n		\n\n		\n			Строка Запуска:\n		\n\n		\n			-mod=@CUP_Terrai
	ns_Core\;@CUP_Terrains_Maps\;@RHSGREF\;@RHSSAF\;@RHSUSAF\;@RHSAFRF\;@WOG_A
	CE\;@WOG_Mods\;@WOG_BAF\;@WOG_BW\;@WOG_Islands\;@YuEmod\;@TFAR\;\n		\n\n		
	\n			Репозиторий (Arma3Synс):\n		\n\n		\n			http://88.99.69.23
	2:8080/.a3s/autoconfig\n		\n	\n\n\n\n	 \n\n
DTSTART:20201113T180000Z
DTEND:20201114T180000Z
END:VEVENT
END:VCALENDAR
