BEGIN:VCALENDAR
VERSION:2.0
PRODID:-//IP.Board Calendar 4.3.6//EN
METHOD:PUBLISH
CALSCALE:GREGORIAN
X-WR-CALNAME:WOG
BEGIN:VTIMEZONE
TZID:Europe/London
TZURL:http://tzurl.org/zoneinfo/Europe/London
X-LIC-LOCATION:Europe/London
BEGIN:DAYLIGHT
TZOFFSETFROM:+0000
TZOFFSETTO:+0100
TZNAME:BST
DTSTART:20200329T020000Z
RRULE:FREQ=YEARLY;BYMONTH=3;BYDAY=-1SU
END:DAYLIGHT
BEGIN:STANDARD
TZOFFSETFROM:+0100
TZOFFSETTO:+0000
TZNAME:GMT
DTSTART:20201025T020000Z
RRULE:FREQ=YEARLY;BYMONTH=10;BYDAY=-1SU
END:STANDARD
END:VTIMEZONE
BEGIN:VEVENT
SUMMARY:Weekly Open Games 25.09.2020 - 26.09.2020
DTSTAMP:20200920T185217Z
SEQUENCE:0
UID:854-1-5734b46ed07498cf109a779f6d92c724@wogames.info
ORGANIZER;CN="BB_STOP":no-reply@wogames.info
DESCRIPTION:\n\n	Cторона 1: KND + FRWL  + MOR + FOX + GHOST + LG
	 + TSN + ALC + JW + CU   |  Сторона 2:  SF + JK  + SSOT + 5
	THPK + OSN + DT + CTU + L13 + BE + A+\n\n\n\n	В пятницу 25
	.09.2020 играем:\n\n\n\n	1. Марш-б
	росок на Приштину BAF - ВС РФ
	 [Остров - Напф] Сторона 1 в Атаке\n\n\n
	\n	2. Joint exercise КМП США + КМП BAF - OP
	FOR [Остров - Карибу] Стор
	она 1 в Обороне\n\n\n\n	3. 
	По количеству игроков\n\n\n\n	Игро
	вой администратор - [KND]Emty\n\n\n\n	 \n\n
	\n\n	В субботу 26.09.2020 играем:\n\n\n\n	1. Under Fi
	re﻿ SLA - US Army [Остров - Сахрани
	] Сторона 1 в Обороне\n\n\n\n	2
	. Возмездие TA - USMC [Остров - Т
	акистан] Сторона 1 в Атаке\n
	\n\n\n	3. По количеству игроков\n\n
	\n\n	Игровой администратор - [KND]FlayeR
	\n\n	 \n\n\n\n	Командование: \n
	\n\n\n\n	Внимание! М
	иссии могут быть обн
	овлены в течение недели
	! Следите за темами!\n\n\n\n	Адрес FTP с
	ервера проекта:\nftp://88.99.69.243\n\n	Адрес
	 автоконфига:\nftp://88.99.69.243/Repo/WOG/.a3s/auto
	config\n\n	Техническая информация
	 для подключения:\n\n	 \n\n\n\n	\n		Спойле
	р\n	\n\n	\n		\n			IP игрового сервера: 88.99.69.243
	\n		\n\n		\n			Порт игрового сервера: 63089\n\n	
			Пароль: wogames \n\n			TeamSpeak сервер: wogames.info:9987\
	n		\n\n		\n			Строка Запуска:\n		\n\n		\n			-mod=@CUP_Terrain
	s_Core\;@CUP_Terrains_Maps\;@RHSGREF\;@RHSSAF\;@RHSUSAF\;@RHSAFRF\;@WOG_AC
	E\;@WOG_Mods\;@WOG_BAF\;@WOG_BW\;@WOG_Islands\;@YuEmod\;@TFAR\;\n		\n\n		\
	n			Репозиторий (Arma3Synс):\n		\n\n		\n			ftp://88.99.69.243/
	Repo/WOG/.a3s/autoconfig\n		\n	\n\n\n\n	 \n\n
DTSTART:20200925T180000Z
DTEND:20200926T180000Z
END:VEVENT
END:VCALENDAR
