BEGIN:VCALENDAR
VERSION:2.0
PRODID:-//IP.Board Calendar 4.3.6//EN
METHOD:PUBLISH
CALSCALE:GREGORIAN
X-WR-CALNAME:WOG
BEGIN:VTIMEZONE
TZID:Europe/London
TZURL:http://tzurl.org/zoneinfo/Europe/London
X-LIC-LOCATION:Europe/London
BEGIN:DAYLIGHT
TZOFFSETFROM:+0000
TZOFFSETTO:+0100
TZNAME:BST
DTSTART:20200329T020000Z
RRULE:FREQ=YEARLY;BYMONTH=3;BYDAY=-1SU
END:DAYLIGHT
BEGIN:STANDARD
TZOFFSETFROM:+0100
TZOFFSETTO:+0000
TZNAME:GMT
DTSTART:20201025T020000Z
RRULE:FREQ=YEARLY;BYMONTH=10;BYDAY=-1SU
END:STANDARD
END:VTIMEZONE
BEGIN:VEVENT
SUMMARY:Weekly Open Games 11.09.2020 - 12.09.2020
DTSTAMP:20200907T183059Z
SEQUENCE:0
UID:852-1-5734b46ed07498cf109a779f6d92c724@wogames.info
ORGANIZER;CN="Senpaii":no-reply@wogames.info
DESCRIPTION:\n\n	  Cторона 1: KND + L-13 + CU + MOR + GHOST + JK 
	+ SSOT + BE + A+   |  Сторона 2: ALC + 5THPK + LG + OSN + DT +
	 FOX + FRWL + TSN + SF + JW + CTU\n\n\n\n	В пятницу 11.09.2
	020 играем:\n\n\n\n	1. Бекетовск
	ая весна ВС РФ и БНР - ВСУ [Остров
	 - Beketov] Сторона 1 в Атаке\n\n\n\n	2. Trai
	ning Night ТНА - ТКА [Остров - Lythium] 
	Сторона 1 в Обороне\n\n\n\n
		3. По количеству игроков\n\n\n\n	И
	гровой администратор - [KND]Theory\n\n\n\n	 
	\n\n\n\n	В субботу 12.09.2020 играем:\n\n\n\n	1. 
	Crimson Dawn ВС СССР - Bundeswehr [Остров -
	 Rosche] Сторона 1 в Обороне\n\n\n\n	2. Horizon Islands Ta
	noan Liberation Army - HIDF [Остров - Tanoa] Сторона 1
	 в Атаке\n\n\n\n	3. По количе
	ству игроков\n\n\n\n	Игровой адми
	нистратор - [FOX]onoda\n\n\n\n	Кома
	ндование: \n\n\n\n	
	Внимание! Мис
	сии могут быть обнов
	лены в течение недели! 
	Следите за темами!\n\n\n\n	Адрес FTP сер
	вера проекта:\nftp://88.99.69.243\n\n	Адрес авт
	оконфига:\nftp://88.99.69.243/Repo/WOG/.a3s/autoconf
	ig\n\n	Техническая информация д
	ля подключения:\n\n	 \n\n\n\n	\n		Спойлер
	\n	\n\n	\n		\n			IP игрового сервера: 88.99.69.243\
	n		\n\n		\n			Порт игрового сервера: 63089\n\n		
		Пароль: wogames \n\n			TeamSpeak сервер: wogames.info:9987\n
			\n\n		\n			Строка Запуска:\n		\n\n		\n			-mod=@CUP_Terrains
	_Core\;@CUP_Terrains_Maps\;@RHSGREF\;@RHSSAF\;@RHSUSAF\;@RHSAFRF\;@WOG_ACE
	\;@WOG_Mods\;@WOG_BAF\;@WOG_BW\;@WOG_Islands\;@YuEmod\;@TFAR\;\n		\n\n		\n
				Репозиторий (Arma3Synс):\n		\n\n		\n			ftp://88.99.69.243/R
	epo/WOG/.a3s/autoconfig\n		\n	\n\n
DTSTART:20200911T180000Z
DTEND:20200912T180000Z
END:VEVENT
END:VCALENDAR
