BEGIN:VCALENDAR
VERSION:2.0
PRODID:-//IP.Board Calendar 4.3.6//EN
METHOD:PUBLISH
CALSCALE:GREGORIAN
X-WR-CALNAME:WOG
BEGIN:VTIMEZONE
TZID:Europe/London
TZURL:http://tzurl.org/zoneinfo/Europe/London
X-LIC-LOCATION:Europe/London
BEGIN:DAYLIGHT
TZOFFSETFROM:+0000
TZOFFSETTO:+0100
TZNAME:BST
DTSTART:20200329T020000Z
RRULE:FREQ=YEARLY;BYMONTH=3;BYDAY=-1SU
END:DAYLIGHT
BEGIN:STANDARD
TZOFFSETFROM:+0100
TZOFFSETTO:+0000
TZNAME:GMT
DTSTART:20201025T020000Z
RRULE:FREQ=YEARLY;BYMONTH=10;BYDAY=-1SU
END:STANDARD
END:VTIMEZONE
BEGIN:VEVENT
SUMMARY:WOG Rally Competition \"Grand Final Race\"
DTSTAMP:20200728T172722Z
SEQUENCE:0
UID:846-1-5734b46ed07498cf109a779f6d92c724@wogames.info
ORGANIZER;CN="TRUE":no-reply@wogames.info
DESCRIPTION:\n\n	WOG Rally Competition\n\n\n\n	\"Grand Final Race\"\n\n\
	n\n	\n\n\n	 \n\n\n\n	WOG Rally Competition - эт
	о попытка реализов
	ать гоночную тематик
	у в пространстве АРМ
	А3. \n\n\n\n	Цель - 
	максимальн
	о реалистичн
	ый геймплей 
	гонок в рамк
	ах АРМА 3. Дополнит
	ельный гейминг. Приятное времяп
	ровождение.\n\n\n\n	Когда? - 02.08.2020. В 14
	:00 - тренировка. 16:00 - гонка.\n
	\n\n\n	Приз для экипаж
	а занявшего 1-е 
	и 2-е место по
	 результатам 
	всех этапов - к
	аждому по одн
	ому из дополне
	ний АРМА 3 на выбор (в 
	рамках популяризации Апекса и
	 Контакта). \n\n\n\n	 \n\n\n\n	Регламент WOG R
	C\n\n\n\n	 \n\n\n\n	Регламент на гонку:\n\n\n\n	1. 
	 GPS запрещен. \n\n
DTSTART:20200802T110000Z
DTEND:20200802T150000Z
END:VEVENT
END:VCALENDAR
