BEGIN:VCALENDAR
VERSION:2.0
PRODID:-//IP.Board Calendar 4.3.6//EN
METHOD:PUBLISH
CALSCALE:GREGORIAN
X-WR-CALNAME:WOG
BEGIN:VTIMEZONE
TZID:Europe/London
TZURL:http://tzurl.org/zoneinfo/Europe/London
X-LIC-LOCATION:Europe/London
BEGIN:DAYLIGHT
TZOFFSETFROM:+0000
TZOFFSETTO:+0100
TZNAME:BST
DTSTART:20200329T020000Z
RRULE:FREQ=YEARLY;BYMONTH=3;BYDAY=-1SU
END:DAYLIGHT
BEGIN:STANDARD
TZOFFSETFROM:+0100
TZOFFSETTO:+0000
TZNAME:GMT
DTSTART:20201025T020000Z
RRULE:FREQ=YEARLY;BYMONTH=10;BYDAY=-1SU
END:STANDARD
END:VTIMEZONE
BEGIN:VEVENT
SUMMARY:Weekly Open Games 17.07.2020 - 18.07.2020
DTSTAMP:20200712T185137Z
SEQUENCE:0
UID:842-1-5734b46ed07498cf109a779f6d92c724@wogames.info
ORGANIZER;CN="MaDnEss":no-reply@wogames.info
DESCRIPTION:\n\n	Cторона 1: KND + L-13 + CU + MOR + GHOST + RSG + 
	JK + SSOT + BE + A+   |  Сторона 2: ALC + 5THPK + LG + OSN + D
	T + FOX + FRWL + TSN + SF + JW\n\n\n\n	В пятницу 17.07.2020
	 играем:\n\n\n\n	1. Поколение убийц
	 USMC - МСВ РФ [ Остров — Chernarus (Wint
	er) ] Сторона 1 в Атаке\n\n\n\n	2. Cuba Libre U
	SMC - FAR [ Остров — Lingor ] Сторо
	на 1 в Обороне\n\n\n\n	3. По
	 количеству игроков\n\n\n\n	Игровой 
	администратор - Theory\n\n\n\n	 \n\n\n\n	В су
	бботу 18.07.2020 играем:\n\n\n\n	1. Royal Strike
	 RACS - SLA [ Остров — Sahrani ] Сторона 1 
	в Обороне\n\n\n\n	2. Al-Borat PMC - Боевики [
	 Остров — Reshman Province ] Сторона 
	1 в Атаке\n\n\n\n	3. По колич
	еству игроков\n\n\n\n	Игровой адм
	инистратор - [DT]SaleeN\n\n\n\n	Командова
	ние:\n\n\n\n	\n\n\n	Внима
	ние! Миссии могут 
	быть обновлены в течени
	е недели! Следите за темами!\n\n\
	n\n	Адрес FTP сервера проекта:\nftp://8
	8.99.69.243\n\n	Адрес автоконфига:\nftp://88.99.69.243/Rep
	o/WOG/.a3s/autoconfig\n\n\n\n	\nТехниче
	ская информация для подключения:\n\n\
	n\n	\n		Спойлер\n	\n\n	\n		\n			IP игрового сервера:
	 88.99.69.243\n		\n\n		\n			Порт игрового сервера
	: 63089\n\n			Пароль: wogames \n\n			TeamSpeak сервер: wogame
	s.info:9987\n		\n\n		\n			Строка Запуска:\n		\n\n		\n			-mod=
	@CUP_Terrains_Core\;@CUP_Terrains_Maps\;@RHSGREF\;@RHSSAF\;@RHSUSAF\;@RHSA
	FRF\;@WOG_ACE\;@WOG_Mods\;@WOG_BAF\;@WOG_BW\;@WOG_Islands\;@YuEmod\;@TFAR\
	;\n		\n\n		\n			Репозиторий (Arma3Synс):\n		\n\n		\n			ftp://8
	8.99.69.243/Repo/WOG/.a3s/autoconfig\n		\n	\n\n\n\n	 \n\n
DTSTART:20200717T180000Z
DTEND:20200718T185900Z
END:VEVENT
END:VCALENDAR
