BEGIN:VCALENDAR
VERSION:2.0
PRODID:-//IP.Board Calendar 4.3.6//EN
METHOD:PUBLISH
CALSCALE:GREGORIAN
X-WR-CALNAME:WOG
BEGIN:VTIMEZONE
TZID:Europe/London
TZURL:http://tzurl.org/zoneinfo/Europe/London
X-LIC-LOCATION:Europe/London
BEGIN:DAYLIGHT
TZOFFSETFROM:+0000
TZOFFSETTO:+0100
TZNAME:BST
DTSTART:20200329T020000Z
RRULE:FREQ=YEARLY;BYMONTH=3;BYDAY=-1SU
END:DAYLIGHT
BEGIN:STANDARD
TZOFFSETFROM:+0100
TZOFFSETTO:+0000
TZNAME:GMT
DTSTART:20201025T020000Z
RRULE:FREQ=YEARLY;BYMONTH=10;BYDAY=-1SU
END:STANDARD
END:VTIMEZONE
BEGIN:VEVENT
SUMMARY:Weekly Open Games 10.07.2020 - 11.07.2020
DTSTAMP:20200705T181121Z
SEQUENCE:0
UID:841-1-5734b46ed07498cf109a779f6d92c724@wogames.info
ORGANIZER;CN="Sharif":no-reply@wogames.info
DESCRIPTION:\n\n	Cторона 1: KND + L-13 + CU + MOR + GHOST + RSG + 
	JK + SSOT + BE + A+   |  Сторона 2: ALC + 5THPK + LG + OSN + D
	T + FOX + FRWL + TSN + SF + JW\n\n\n\n	В пятницу 10.07.2020
	 играем:\n\n\n\n	1. Generation kill US Army - Iraq Ar
	my [ Остров — Takistan ] Сторона
	 1 в Атаке\n\n\n\n	2. Пуля в 
	затылок ВС РФ - Повстанцы
	 [ Остров — Chernarus ] Сторона
	 1 в Обороне\n\n\n\n	3. По к
	оличеству игроков\n\n\n\n	Игровой ад
	министратор -  [KND]FlayeR\n\n\n\n	 \n\n\n\n	В
	 субботу 11.07.2020 играем:\n\n\n\
	n	1. Курильский кризис  В
	С РФ - JSDF [ Остров — Tanoa ] Сторона 1 
	в Обороне\n\n\n\n	2. Last Step  Iraq Army -
	 Боевики [ Остров — Fallujah 
	] Сторона 1 в Атаке\n\n\n\n	3
	. По количеству игроков\n\n\n\n	Иг
	ровой администратор - [KND]Dekfor\n\n\n\n	
	 \n\n\n\n	Командование:\n\n\n\n
		\n\n\n	Внимание! М
	иссии могут быть обн
	овлены в течение недели
	! Следите за темами!\n\n\n\n	Адрес FTP с
	ервера проекта:\nftp://88.99.69.243\n\n	Адрес
	 автоконфига:\nftp://88.99.69.243/Repo/WOG/.a3s/auto
	config\n\n	Техническая информаци
	я для подключения:\n\n\n\n	\n		Спойле
	р\n	\n\n	\n		\n			IP игрового сервера: 88.99.69.243
	\n		\n\n		\n			Порт игрового сервера: 63089\n\n	
			Пароль: wogames \n\n			TeamSpeak сервер: wogames.info:9987\
	n		\n\n		\n			Строка Запуска:\n		\n\n		\n			-mod=@CUP_Terrain
	s_Core\;@CUP_Terrains_Maps\;@RHSGREF\;@RHSSAF\;@RHSUSAF\;@RHSAFRF\;@WOG_AC
	E\;@WOG_Mods\;@WOG_BAF\;@WOG_BW\;@WOG_Islands\;@YuEmod\;@TFAR\;\n		\n\n		\
	n			Репозиторий (Arma3Synс):\n		\n\n		\n			ftp://88.99.69.243/
	Repo/WOG/.a3s/autoconfig\n		\n	\n\n\n\n	 \n\n
DTSTART:20200710T180000Z
DTEND:20200711T180000Z
END:VEVENT
END:VCALENDAR
