BEGIN:VCALENDAR
VERSION:2.0
PRODID:-//IP.Board Calendar 4.3.6//EN
METHOD:PUBLISH
CALSCALE:GREGORIAN
X-WR-CALNAME:WOG
BEGIN:VTIMEZONE
TZID:Europe/London
TZURL:http://tzurl.org/zoneinfo/Europe/London
X-LIC-LOCATION:Europe/London
BEGIN:DAYLIGHT
TZOFFSETFROM:+0000
TZOFFSETTO:+0100
TZNAME:BST
DTSTART:20200329T020000Z
RRULE:FREQ=YEARLY;BYMONTH=3;BYDAY=-1SU
END:DAYLIGHT
BEGIN:STANDARD
TZOFFSETFROM:+0100
TZOFFSETTO:+0000
TZNAME:GMT
DTSTART:20201025T020000Z
RRULE:FREQ=YEARLY;BYMONTH=10;BYDAY=-1SU
END:STANDARD
END:VTIMEZONE
BEGIN:VEVENT
SUMMARY:Weekly Open Games 03.07.2020 - 04.07.2020
DTSTAMP:20200628T185131Z
SEQUENCE:0
UID:840-1-5734b46ed07498cf109a779f6d92c724@wogames.info
ORGANIZER;CN="ZAMPOLIT":no-reply@wogames.info
DESCRIPTION:\n	\n		Cторона 1: KND + L-13 + CU + MOR + GHOST + RSG 
	+ JK + SSOT + BE + A+   |  Сторона 2: ALC + 5THPK + LG + OSN +
	 DT + FOX + FRWL + TSN + SF + JW\n	\n\n	\n		В пятницу 03.07
	.2020 играем:\n	\n\n	\n		1. Njet\, Lavr
	off! ВС РФ - ВС НА
	ТО﻿ [ Остров — Хелланмаа (зим
	няя) ] Сторона 1 в Обороне\n	\n\n	\n		2. Blitz
	krieg 2 US Army -  ВС РФ [ Остров
	 — Черноруссия ] Сторона 1 в
	 Атаке\n	\n\n	\n		3. По количес
	тву игроков\n	\n\n	\n		Игровой администрат
	ор -  Theory\n	\n\n	\n		 \n	\n\n	\n		В субботу 04.07.20
	20 играем:\n	\n\n	\n		1. Запад 2017
	 ВС РФ -  US Army﻿ [ Остров — 
	Бекетов ] Сторона 1 в 
	Атака\n	\n\n	\n		2.
	  Афганска
	я Дорога ОКСВА﻿ - 
	Талибан  [ Остров — Решм
	ан ] Сторона 1 в Оборона\n	\n\n	\n	
		3. По количеству игроков \n	\n\n	
	\n		Игровой администратор - [FOX] visu\n	\
	n\n	\n		 \n	\n\n	\n		Командование: \n	\n\n	\n
			\n\n	\n		Внимание! 
	Миссии могут быть обн
	овлены в течение недели! С
	ледите за темами!\n	\n\n	\n		Адрес FTP се
	рвера проекта:\nftp://88.99.69.243\n\n		Адрес 
	автоконфига:\nftp://88.99.69.243/Repo/WOG/.a3s/autoc
	onfig\n\n		Техническая информация для 
	подключения:\n\n		 \n	\n\n	\n		\n			  Показать
	 контент\n		\n\n		\n			\n				IP игрового сервера: 88
	.99.69.243\n			\n\n			\n				Порт игрового сервера
	: 63089\n\n				Пароль: wogames \n\n				TeamSpeak сервер: woga
	mes.info:9987\n			\n\n			\n				Строка Запуска:\n			\n\n			\n	
				-mod=@CUP_Terrains_Core\;@CUP_Terrains_Maps\;@RHSGREF\;@RHSSAF\;@RHSUSA
	F\;@RHSAFRF\;@WOG_ACE\;@WOG_Mods\;@WOG_BAF\;@WOG_BW\;@WOG_Islands\;@YuEmod
	\;@TFAR\;\n			\n\n			\n				Репозиторий (Arma3Synс):\n			\n\n		
		\n				ftp://88.99.69.243/Repo/WOG/.a3s/autoconfig\n			\n		\n	\n\n	\n		 \
	n	\n
DTSTART:20200703T180000Z
DTEND:20200704T180000Z
END:VEVENT
END:VCALENDAR
