BEGIN:VCALENDAR
VERSION:2.0
PRODID:-//IP.Board Calendar 4.3.6//EN
METHOD:PUBLISH
CALSCALE:GREGORIAN
X-WR-CALNAME:WOG
BEGIN:VTIMEZONE
TZID:Europe/London
TZURL:http://tzurl.org/zoneinfo/Europe/London
X-LIC-LOCATION:Europe/London
BEGIN:DAYLIGHT
TZOFFSETFROM:+0000
TZOFFSETTO:+0100
TZNAME:BST
DTSTART:20150329T020000Z
RRULE:FREQ=YEARLY;BYMONTH=3;BYDAY=-1SU
END:DAYLIGHT
BEGIN:STANDARD
TZOFFSETFROM:+0100
TZOFFSETTO:+0000
TZNAME:GMT
DTSTART:20151025T020000Z
RRULE:FREQ=YEARLY;BYMONTH=10;BYDAY=-1SU
END:STANDARD
END:VTIMEZONE
BEGIN:VEVENT
SUMMARY:mWOG 14.01.15 - Будничные игры
DTSTAMP:20150114T090231Z
SEQUENCE:0
UID:84-1-5734b46ed07498cf109a779f6d92c724@wogames.info
ORGANIZER;CN="ToxaSM":no-reply@wogames.info
DESCRIPTION:\n\n\n\n\n \nСписок миссий:\n1. Classic Mi
	ssion ВС РФ — USMC [Остров — Chernarus] KND.TT
	 в атаке за USMC\n2. Пасюки ВС РФ — USMC
	 [Остров — Beketov] KND.TT в обороне за U
	SMC\n3. Форпост TL — USMC [Остров — Tora-Bora] KND.TT 
	в атаке за TL\n
DTSTART;VALUE=DATE:20150114
END:VEVENT
END:VCALENDAR
