BEGIN:VCALENDAR
VERSION:2.0
PRODID:-//IP.Board Calendar 4.3.6//EN
METHOD:PUBLISH
CALSCALE:GREGORIAN
X-WR-CALNAME:WOG
BEGIN:VTIMEZONE
TZID:Europe/London
TZURL:http://tzurl.org/zoneinfo/Europe/London
X-LIC-LOCATION:Europe/London
BEGIN:DAYLIGHT
TZOFFSETFROM:+0000
TZOFFSETTO:+0100
TZNAME:BST
DTSTART:20200329T020000Z
RRULE:FREQ=YEARLY;BYMONTH=3;BYDAY=-1SU
END:DAYLIGHT
BEGIN:STANDARD
TZOFFSETFROM:+0100
TZOFFSETTO:+0000
TZNAME:GMT
DTSTART:20201025T020000Z
RRULE:FREQ=YEARLY;BYMONTH=10;BYDAY=-1SU
END:STANDARD
END:VTIMEZONE
BEGIN:VEVENT
SUMMARY:Weekly Open Games 19.06.2020 - 20.06.2020
DTSTAMP:20200614T184508Z
SEQUENCE:0
UID:838-1-5734b46ed07498cf109a779f6d92c724@wogames.info
ORGANIZER;CN="Zwierdik":no-reply@wogames.info
DESCRIPTION:\n\n	Cторона 1: KND + L-13 + CU + MOR + GHOST + RSG + 
	JK + SSOT + BE + A+   |  Сторона 2: ALC + 5THPK + LG + OSN + D
	T + FOX + FRWL + TSN + SF + JW\n\n\n\n	В пятницу 19.06.2020
	 играем:\n\n\n\n	1. Битва за M
	ountain Rage ВС Ве
	ликобритании - ВС
	 Аргентины﻿ [ Остров 
	— Карибу ] Сторона 1 в Атаке
	\n\n\n\n	2. Атака на Лиджхав
	ен  USMC -  Армия Таноа [ Ост
	ров — Таноа ]  Сторона 1 в 
	Обороне\n\n\n\n	3. По колич
	еству игроков\n\n\n\n	Игровой администра
	тор -  [DT] SaleeN\n\n\n\n	 \n\n\n\n	В субботу 20.06.
	2020 играем:\n\n\n\n	1. Войс
	ка дяди Васи  ВДВ РФ - 
	 CDF﻿ [ Остров — Напф ] Сторона 1 в 
	Обороне\n\n\n\n	2.  Haba-haba B
	AF - Армия Афган
	истана + Ополчение [ Ост
	ров — Такистан ] Сторона 1
	 в Атаке\n\n\n\n	3. По колич
	еству игроков \n\n\n\n	Игровой админист
	ратор - [KND]Dekfor\n\n\n\n	 \n\n\n\n	Командование: \
	n\n\n\n	\n\n\n	 \n\n\n\n	Внимани
	е! Миссии могут быть
	 обновлены в течение нед
	ели! Следите за темами!\n\n\n\n	Адрес
	 FTP сервера проекта:\nftp://88.99.69.243\n\
	n	Адрес автоконфига:\nftp://88.99.69.243/Repo/WOG/.a3s
	/autoconfig\n\n	Техническая инфор
	мация для подключения:\n\n\n\n	\n		Сп
	ойлер\n	\n\n	\n		\n			IP игрового сервера: 88.99.6
	9.243\n		\n\n		\n			Порт игрового сервера: 63089
	\n\n			Пароль: wogames \n\n			TeamSpeak сервер: wogames.info:
	9987\n		\n\n		\n			Строка Запуска:\n		\n\n		\n			-mod=@CUP_Te
	rrains_Core\;@CUP_Terrains_Maps\;@RHSGREF\;@RHSSAF\;@RHSUSAF\;@RHSAFRF\;@W
	OG_ACE\;@WOG_Mods\;@WOG_BAF\;@WOG_BW\;@WOG_Islands\;@YuEmod\;@TFAR\;\n		\n
	\n		\n			Репозиторий (Arma3Synс):\n		\n\n		\n			ftp://88.99.69
	.243/Repo/WOG/.a3s/autoconfig\n		\n	\n\n\n\n	 \n\n
DTSTART:20200619T180000Z
DTEND:20200620T180000Z
END:VEVENT
END:VCALENDAR
