BEGIN:VCALENDAR
VERSION:2.0
PRODID:-//IP.Board Calendar 4.3.6//EN
METHOD:PUBLISH
CALSCALE:GREGORIAN
X-WR-CALNAME:WOG
BEGIN:VTIMEZONE
TZID:Europe/London
TZURL:http://tzurl.org/zoneinfo/Europe/London
X-LIC-LOCATION:Europe/London
BEGIN:DAYLIGHT
TZOFFSETFROM:+0000
TZOFFSETTO:+0100
TZNAME:BST
DTSTART:20200329T020000Z
RRULE:FREQ=YEARLY;BYMONTH=3;BYDAY=-1SU
END:DAYLIGHT
BEGIN:STANDARD
TZOFFSETFROM:+0100
TZOFFSETTO:+0000
TZNAME:GMT
DTSTART:20201025T020000Z
RRULE:FREQ=YEARLY;BYMONTH=10;BYDAY=-1SU
END:STANDARD
END:VTIMEZONE
BEGIN:VEVENT
SUMMARY:Weekly Open Games 08.05.2020 - 10.05.2020
DTSTAMP:20200504T193858Z
SEQUENCE:0
UID:831-1-5734b46ed07498cf109a779f6d92c724@wogames.info
ORGANIZER;CN="MaDnEss":no-reply@wogames.info
DESCRIPTION:\n\n	Cторона 1: KND + 5THPK + FRWL + OSN + FOX  + 
	ALC + SF + A+   |  Сторона 2: DT + GHOST + JK + L13 + LG + MOR
	 + RSG + TSN + CU \n\n\n\n	В пятницу 08.05.2020 игр
	аем:\n\n\n\n	1. Марш на Ла-Ман
	ш  ВС СССР - US Army [ Остров — Рош
	е ] Сторона 1 за US Army\n\n
	\n	2. Уругал  ВС СССР -
	 Моджахеды [ Остров — 
	Фата ] Cторона 1 в Атаке
	\n\n\n	3. По количеству игроков\
	n\nИгровой администратор — [DT]SaLeeN\n\n\
	n\n	 \n\n\n\n	В субботу 09.05.2020 играе
	м:\n\n\n\n	1. Войска Дяди 
	Васи  ВС РФ - ЧСО [ Остров — Напф
	 ] Cторона 1 в Атаке\n\n\n	2. Crimson Dawn
	  ВС СССР - Bundeswehr  [ Остров
	 — Роше ] Cторона 1 в О
	бороне\n\n\n	3. По количес
	тву игроков\n\nИгровой администратор
	 — [KND]Flayer\n\n\n\n	 \n\n\n\n	В воскресенье 10.0
	5.2020 играем:\n\n\n\n	1. False Target  US A
	rmy - ВС РФ [ Остров — Алтис ] Cторон
	а 1 в Атаке\n\n\n	2. Hot Septe
	mber  Повстанцы
	 - Правительственн
	ые войска [ Остров — 
	Целле ] Cторона 1 в Обо
	роне\n\n\n	3. По количеству 
	игроков\n\nИгровой администратор
	 — [KND]Flayer\n\n\n\n	Командование:\n\n\n\n	\n\n
	\n	10.05.2020 Свободное ком
	андование (В Приорит
	ете для Игровых груп
	п)\n\n\n\n	Внимание!
	 Миссии могут быть об
	новлены в течение недел
	и! Следите за темами!\n\n\n\n	Адрес FTP
	 сервера проекта:\nftp://88.99.69.243\n\n	Ад
	рес автоконфига:\nftp://88.99.69.243/Repo/WOG/.a3s/a
	utoconfig\n\n	Техническая информ
	ация для подключения:\n\n\n\n	\n		Спо
	йлер\n	\n\n	\n		\n			IP игрового сервера: 88.99.69.
	243\n		\n\n		\n			Порт игрового сервера: 3089\n\
	n			Пароль: wogames \n\n			TeamSpeak сервер: wogames.info:998
	7\n		\n\n		\n			Строка Запуска:\n		\n\n		\n			-mod=@CUP_Terra
	ins_Core\;@CUP_Terrains_Maps\;@RHSGREF\;@RHSSAF\;@RHSUSAF\;@RHSAFRF\;@WOG_
	ACE\;@WOG_Mods\;@WOG_BAF\;@WOG_BW\;@WOG_Islands\;@YuEmod\;@TFAR\;\n		\n\n	
		\n			Репозиторий (Arma3Synс):\n		\n\n		\n			ftp://88.99.69.24
	3/Repo/WOG/.a3s/autoconfig\n		\n	\n\n
DTSTART:20200508T180000Z
DTEND:20200510T190000Z
END:VEVENT
END:VCALENDAR
