BEGIN:VCALENDAR
VERSION:2.0
PRODID:-//IP.Board Calendar 4.3.6//EN
METHOD:PUBLISH
CALSCALE:GREGORIAN
X-WR-CALNAME:WOG
BEGIN:VTIMEZONE
TZID:Europe/London
TZURL:http://tzurl.org/zoneinfo/Europe/London
X-LIC-LOCATION:Europe/London
BEGIN:DAYLIGHT
TZOFFSETFROM:+0000
TZOFFSETTO:+0100
TZNAME:BST
DTSTART:20150329T020000Z
RRULE:FREQ=YEARLY;BYMONTH=3;BYDAY=-1SU
END:DAYLIGHT
BEGIN:STANDARD
TZOFFSETFROM:+0100
TZOFFSETTO:+0000
TZNAME:GMT
DTSTART:20151025T020000Z
RRULE:FREQ=YEARLY;BYMONTH=10;BYDAY=-1SU
END:STANDARD
END:VTIMEZONE
BEGIN:VEVENT
SUMMARY:VTN ARMA 3
DTSTAMP:20150114T090143Z
SEQUENCE:0
UID:83-1-5734b46ed07498cf109a779f6d92c724@wogames.info
ORGANIZER;CN="ToxaSM":no-reply@wogames.info
DESCRIPTION:\nБлижайшие игры: Воскресе
	нье 18.01.15 в 17:00 (мск)\nАддоны:\n@CBA_A3\;@task_force_rad
	io\;@AllInArmaTerrainPack\;@Helvantis\;@swt_markers\;@vtn\;@vtn_mods\;\n
	Репозиторий Arma3Sync: ftp://wogames.info/ArmA3Sync/WOG_VTN//.a
	3s/autoconfig\nСсылки н
	а актуальные в
	ерсии аддонов (перекачаю
	т на репозиторий):\n• (Из архива рации) http:
	//rghost.ru/60310920 @CBA_A3\;\n• http://www.armaholic.com/page.php?id=2
	3615 @task_force_radio\;\n• http://www.armaholic.com/page.php?id=26682 @
	AllInArmaTerrainPack\;\n• http://www.armaholic.com/page.php?id=27617 @He
	lvantis\;\n• http://www.armaholic.com/page.php?id=27012 @swt_markers\;
	\n• Версия 0.3.1.387 (ожидается патч с фиксам
	и) @vtn\;\n
DTSTART;VALUE=DATE:20150118
END:VEVENT
END:VCALENDAR
