BEGIN:VCALENDAR
VERSION:2.0
PRODID:-//IP.Board Calendar 4.3.6//EN
METHOD:PUBLISH
CALSCALE:GREGORIAN
X-WR-CALNAME:WOG
BEGIN:VTIMEZONE
TZID:Europe/London
TZURL:http://tzurl.org/zoneinfo/Europe/London
X-LIC-LOCATION:Europe/London
BEGIN:DAYLIGHT
TZOFFSETFROM:+0000
TZOFFSETTO:+0100
TZNAME:BST
DTSTART:20200329T020000Z
RRULE:FREQ=YEARLY;BYMONTH=3;BYDAY=-1SU
END:DAYLIGHT
BEGIN:STANDARD
TZOFFSETFROM:+0100
TZOFFSETTO:+0000
TZNAME:GMT
DTSTART:20201025T020000Z
RRULE:FREQ=YEARLY;BYMONTH=10;BYDAY=-1SU
END:STANDARD
END:VTIMEZONE
BEGIN:VEVENT
SUMMARY:Weekly Open Games 24.04.2020 - 25.04.2020
DTSTAMP:20200419T183357Z
SEQUENCE:0
UID:829-1-5734b46ed07498cf109a779f6d92c724@wogames.info
ORGANIZER;CN="MrPurple":no-reply@wogames.info
DESCRIPTION:\n\n	Cторона 1: KND + 5THPK + FRWL + OSN + FOX + I
	MB + ALC + SF + A+   |  Сторона 2: DT + GHOST + JK + L13 + LG 
	+ MOR + RSG + TSN + CU \n\n\n\n	В пятницу 24.04.2020 иг
	раем:\n\n\n\n	1. Вариант 
	2008  ВС РФ - ВС Грузии [ Ос
	тров — Напф ] Сторона 1 в обороне\n\n\n	2. D
	esert Storm USMC - Iraq Army\, Iraq Militia [ О
	стров — Фалуджа ] Cтор
	она 1 в атаке\n\n\n	3. 
	По количеству игроков\n\nИгрово
	й администратор — [DT]Saleen\n\n\n\n	 \n\
	n\n\n	В субботу 25.04.2020 играем:\n\n\n\n	1. Incursion  
	Takistan Army - US Army [ Остров — Reshmaan ] Cто
	рона 1 в атаке\n\n\n	2. Breaking Even 
	AAF - FIA [ Остров — Алтис 
	] Cторона 1 в обороне\
	n\n\n	3. По количеству игроков\n
	\nИгровой администратор — [KND]Emty\n\n
	\n\n	\nКомандование:\n\n\n\n	\n
	\n\n\n	Внимание! Ми
	ссии могут быть обно
	влены в течение недели!
	 Следите за темами!\n\n\n\n	Адрес FTP се
	рвера проекта:\nftp://88.99.69.243\n\n
		Адрес автоконфига Arma3Synс репозитория:\nftp
	://88.99.69.243/Repo/WOG/.a3s/autoconfig\n\n	Тех
	ническая информация для подключения:\n\n\n
	\n	\n		Spoiler\n	\n\n	\n		\n			IP игрового сервера: 88.99.6
	9.243\n		\n\n		\n			Порт игрового сервера: 3089\
	n\n			Пароль: wogames \n\n			TeamSpeak сервер: wogames.info:9
	987\n		\n\n		\n			Строка Запуска:\n		\n\n		\n			-mod=@CUP_Ter
	rains_Core\;@CUP_Terrains_Maps\;@RHSGREF\;@RHSSAF\;@RHSUSAF\;@RHSAFRF\;@WO
	G_ACE\;@WOG_Mods\;@WOG_BAF\;@WOG_BW\;@WOG_Islands\;@YuEmod\;@TFAR\;\n		\n	
	\n\n\n\n	 \n\n
DTSTART:20200424T180000Z
DTEND:20200425T180000Z
END:VEVENT
END:VCALENDAR
