BEGIN:VCALENDAR
VERSION:2.0
PRODID:-//IP.Board Calendar 4.3.6//EN
METHOD:PUBLISH
CALSCALE:GREGORIAN
X-WR-CALNAME:WOG
BEGIN:VTIMEZONE
TZID:Europe/London
TZURL:http://tzurl.org/zoneinfo/Europe/London
X-LIC-LOCATION:Europe/London
BEGIN:DAYLIGHT
TZOFFSETFROM:+0000
TZOFFSETTO:+0100
TZNAME:BST
DTSTART:20200329T020000Z
RRULE:FREQ=YEARLY;BYMONTH=3;BYDAY=-1SU
END:DAYLIGHT
BEGIN:STANDARD
TZOFFSETFROM:+0100
TZOFFSETTO:+0000
TZNAME:GMT
DTSTART:20201025T020000Z
RRULE:FREQ=YEARLY;BYMONTH=10;BYDAY=-1SU
END:STANDARD
END:VTIMEZONE
BEGIN:VEVENT
SUMMARY:Weekly Open Games 13.03.2020 - 14.03.2020
DTSTAMP:20200308T194414Z
SEQUENCE:0
UID:820-1-5734b46ed07498cf109a779f6d92c724@wogames.info
ORGANIZER;CN="FlayeR":no-reply@wogames.info
DESCRIPTION:\n\n	Cторона 1: KND + 5THPK + FRWL + OSN + FOX + IM
	B + ALC + A+  |  Сторона 2: DT + GHOST + JK + L13 + LG + MOR +
	 RSG + TSN \n\n\n\n	 \n\n\n\n	В пятницу 13.03.2020 играе
	м:\n\n\n\n	1. Blood &amp\; Steel МСВ 
	РФ - ЧСО [ Остров — Ч
	ерноруссия ] Cторона 1
	 в Обороне\n\n\n\n	2.
	 Битва за Кавалу В
	С РФ - НАТО [ Остров — 
	Альтис ] Cторона 1 в Атаке  \
	n\n\n\n	3. По количеству игроков
	\n\n\n\n	Игровой администратор — [DT]Salee
	N\n\n\n\n	 \n\n\n\n	В субботу 14.03.2020 играем:\n\n\n\n
		1. Hot September Пов
	станцы  -  
	Правительственные во
	йска [ Остров — Целле ] Cторона 1 в
	 Атаке  \n\n\n\n	2. Joint exercise﻿ USMC
	 - OPFOR [ Остров — Карибу ]
	 Cторона 1 в Обороне\n\n\n\n
		3. По количеству игроков\n\n\n\
	n	Игровой администратор — [KND]emty\n\n
	\n\n	\nКомандование:\n\n\n\n	\n
	\n\n\n	Внимание! Ми
	ссии могут быть об
	новлены в течение нед
	ели! Следите за темами!\n\n\n	Адрес F
	TP сервера проекта:\nftp://88.99.69.243\n\n	
	Адрес автоконфига:\nftp://88.99.69.243/Repo/WOG/.a3s
	/autoconfig\n\n	Техническая инфор
	мация для подключения:\n\n\n\n	\n		Сп
	ойлер\n	\n\n	\n		\n			IP игрового сервера: 88.99.6
	9.243\n		\n\n		\n			Порт игрового сервера: 3089\
	n\n			Пароль: wogames \n\n			TeamSpeak сервер: wogames.info:9
	987\n		\n\n		\n			Строка Запуска:\n		\n\n		\n			-mod=@CUP_Ter
	rains_Core\;@CUP_Terrains_Maps\;@RHSGREF\;@RHSSAF\;@RHSUSAF\;@RHSAFRF\;@WO
	G_ACE\;@WOG_Mods\;@WOG_BAF\;@WOG_BW\;@WOG_Islands\;@YuEmod\;@TFAR\;\n		\n\
	n		\n			Репозиторий (Arma3Synс):\n		\n\n		\n			ftp://88.99.69.
	243/Repo/WOG/.a3s/autoconfig\n		\n	\n\n\n\n	 \n\n
DTSTART:20200313T173000Z
DTEND:20200314T205900Z
END:VEVENT
END:VCALENDAR
