BEGIN:VCALENDAR
VERSION:2.0
PRODID:-//IP.Board Calendar 4.3.6//EN
METHOD:PUBLISH
CALSCALE:GREGORIAN
X-WR-CALNAME:WOG
BEGIN:VTIMEZONE
TZID:Europe/London
TZURL:http://tzurl.org/zoneinfo/Europe/London
X-LIC-LOCATION:Europe/London
BEGIN:DAYLIGHT
TZOFFSETFROM:+0000
TZOFFSETTO:+0100
TZNAME:BST
DTSTART:20140330T020000Z
RRULE:FREQ=YEARLY;BYMONTH=3;BYDAY=-1SU
END:DAYLIGHT
BEGIN:STANDARD
TZOFFSETFROM:+0100
TZOFFSETTO:+0000
TZNAME:GMT
DTSTART:20141026T020000Z
RRULE:FREQ=YEARLY;BYMONTH=10;BYDAY=-1SU
END:STANDARD
END:VTIMEZONE
BEGIN:VEVENT
SUMMARY:Weekly Open Games - 20.12.14
DTSTAMP:20141218T125022Z
SEQUENCE:0
UID:82-1-5734b46ed07498cf109a779f6d92c724@wogames.info
ORGANIZER;CN="ToxaSM":no-reply@wogames.info
DESCRIPTION:\n\n\n]\n\n\n\nВ субботу 20.12.2014 играем:\n\
	n\n\n1. Mosquito BAF — TA [Остров — Takistan] KND.TT в ата
	ке \n\n\n\n\n2. \nWhite Nights  ЧДКЗ — ВВ МВД 
	РФ + ВДВ РФ [Остров — Beketov] KND.TT в обороне\n\n
	\n\n\n\n3. \nArmored Fist (part II) ТА — TL [Остров — Cl
	afghan]  КНД.ТТ в атаке\n\n\n\n\nТЕМА ДЛЯ ОБСУЖД
	ЕНИЯ\n\n\n
DTSTART;VALUE=DATE:20141220
END:VEVENT
END:VCALENDAR
