BEGIN:VCALENDAR
VERSION:2.0
PRODID:-//IP.Board Calendar 4.3.6//EN
METHOD:PUBLISH
CALSCALE:GREGORIAN
X-WR-CALNAME:WOG
BEGIN:VTIMEZONE
TZID:Europe/London
TZURL:http://tzurl.org/zoneinfo/Europe/London
X-LIC-LOCATION:Europe/London
BEGIN:DAYLIGHT
TZOFFSETFROM:+0000
TZOFFSETTO:+0100
TZNAME:BST
DTSTART:20200329T020000Z
RRULE:FREQ=YEARLY;BYMONTH=3;BYDAY=-1SU
END:DAYLIGHT
BEGIN:STANDARD
TZOFFSETFROM:+0100
TZOFFSETTO:+0000
TZNAME:GMT
DTSTART:20201025T020000Z
RRULE:FREQ=YEARLY;BYMONTH=10;BYDAY=-1SU
END:STANDARD
END:VTIMEZONE
BEGIN:VEVENT
SUMMARY:Weekly Open Games 06.03.2020 - 07.03.2020
DTSTAMP:20200301T174413Z
SEQUENCE:0
UID:819-1-5734b46ed07498cf109a779f6d92c724@wogames.info
ORGANIZER;CN="visu":no-reply@wogames.info
DESCRIPTION:\n\n	Cторона 1: KND + 5THPK + FRWL + OSN + FOX + IM
	B + ALC + A+  |  Сторона 2: DT + GHOST + JK + L13 + LG + MOR +
	 RSG + TSN \n\n\n\n	 \n\n\n\n	В пятницу 06.03.2020 и
	граем:\n\n\n\n	1. Бархатный Сезон Мир
	отворцы ООН - Iraqi Armed Force
	s [ Остров — Сахрани(Южный) ] Cторон
	а 1 в Атаке  \n\n\n\n	2. Blitzkrieg 2 US
	 Army - ВС РФ [ Остров — Чер
	норуссия ] Cторона 1 в Оборо
	не\n\n\n\n	3. По количеству иг
	роков\n\n\n\n	Игровой администратор — [F
	OX]Theory\n\n\n\n	 \n\n\n\n	В субботу 07.03.2020 играем:\n
	\n\n\n	1. Operation Doom ВС РФ  -  US Army + Bundes
	wehr [ Остров — Роше ] Cторона 
	1 в Обороне\n\n\n\n	2. Sha
	mali ТКА - Боевики [ Остро
	в — Такистан ] Cторона 1 в А
	таке  \n\n\n\n	3. По колич
	еству игроков\n\n\n\n	Игровой адм
	инистратор — [KND]Flayer\n\n\n\n	\n
	Командование:\n\n\
	n\n	Внимание! Ми
	ссии могут быть об
	новлены в течение нед
	ели! Следите за темами!\n\n\n	Адрес F
	TP сервера проекта:\nftp://88.99.69.243\n\n	
	Адрес автоконфига:\nftp://88.99.69.243/Repo/WOG/.a3s
	/autoconfig\n\n	Техническая инфор
	мация для подключения:\n\n\n\n	\n		Сп
	ойлер\n	\n\n	\n		\n			IP игрового сервера: 88.99.6
	9.243\n		\n\n		\n			Порт игрового сервера: 3089\
	n\n			Пароль: wogames \n\n			TeamSpeak сервер: wogames.info:9
	987\n		\n\n		\n			Строка Запуска:\n		\n\n		\n			-mod=@CUP_Ter
	rains_Core\;@CUP_Terrains_Maps\;@RHSGREF\;@RHSSAF\;@RHSUSAF\;@RHSAFRF\;@WO
	G_ACE\;@WOG_Mods\;@WOG_BAF\;@WOG_BW\;@WOG_Islands\;@YuEmod\;@TFAR\;\n		\n\
	n		\n			Репозиторий (Arma3Synс):\n		\n\n		\n			ftp://88.99.69.
	243/Repo/WOG/.a3s/autoconfig\n		\n	\n\n\n\n	\n\n	 \n\n
DTSTART:20200306T180000Z
DTEND:20200307T180000Z
END:VEVENT
END:VCALENDAR
