BEGIN:VCALENDAR
VERSION:2.0
PRODID:-//IP.Board Calendar 4.3.6//EN
METHOD:PUBLISH
CALSCALE:GREGORIAN
X-WR-CALNAME:WOG
BEGIN:VTIMEZONE
TZID:Europe/London
TZURL:http://tzurl.org/zoneinfo/Europe/London
X-LIC-LOCATION:Europe/London
BEGIN:DAYLIGHT
TZOFFSETFROM:+0000
TZOFFSETTO:+0100
TZNAME:BST
DTSTART:20190331T020000Z
RRULE:FREQ=YEARLY;BYMONTH=3;BYDAY=-1SU
END:DAYLIGHT
BEGIN:STANDARD
TZOFFSETFROM:+0100
TZOFFSETTO:+0000
TZNAME:GMT
DTSTART:20191027T020000Z
RRULE:FREQ=YEARLY;BYMONTH=10;BYDAY=-1SU
END:STANDARD
END:VTIMEZONE
BEGIN:VEVENT
SUMMARY:Weekly Open Games 13.12.2019 - 14.12.2019
DTSTAMP:20191208T191508Z
SEQUENCE:0
UID:803-1-5734b46ed07498cf109a779f6d92c724@wogames.info
ORGANIZER;CN="SaLeeN":no-reply@wogames.info
DESCRIPTION:\n\n	Cторона 1: KND + 5THPK +  BE +FRWL + OSN + RS +
	 FOX + A+  |  Сторона 2: DT + GHOST + JK + L13 + LG + MOR + RS
	G + TSN + СTU\n\n\n\n	В пятницу 13.12.2019 играем:\n\n\n\
	n	1. Broken wings ar﻿m  ЧСО
	 - ЧДКЗ [Остров — Черноруссия
	 ] Cторона 1 в Атаке \n\n\n\n	2. Nucle﻿ar 
	Dawn  British Army - Армия Такист
	ана [Остров — F.A.T.A. ]  Cто
	рона 1 в Обороне\n\n\n\n	3.
	 По количеству игроков\n\n\n\n
		Игровой администратор — [KND]FlayeR \n\
	n\n\n	 \n\n\n\n	В субботу 14.12.2019 играем:\n\n\n\n	1
	. Dead Island  USMC - North Korean Army [
	Остров —  Мальден
	 ] Cторона 1 в Обороне\n
	\n\n\n	2. Заблоки
	рованный порт ﻿ 
	USMC - ВС РФ [Остров — П
	одагорск ] Cторона 1 в Атаке
	 \n\n\n\n	3. По количеству иг
	роков\n\n\n\n	Игровой администра
	тор — [КND]Emty\n\n\n	Командование:\n\n\n\
	n	\n\n\n	 \n\n\n\n	Внимание
	! Миссии могут быть 
	обновлены в течение н
	едели! Следите за темами!\n\n\n	Адр
	ес FTP сервера проекта:\nftp://88.99.69.24
	3\n\n	Адрес автоконфига:\nftp://88.99.69.243/Repo/WOG/.a3s
	/autoconfig\n\n	Техническая инфор
	мация для подключения:\n\n\n\n	\n		Спойлер\n	\n
	\n	\n		\n			 \n		\n\n		\n			IP игрового сервера: 88.99.69.
	243\n		\n\n		\n			Порт игрового сервера: 3089\n\
	n			Пароль: wogames \n\n			TeamSpeak сервер: wogames.info:998
	7\n		\n\n		\n			Строка Запуска:\n		\n\n		\n			-mod=@CUP_Terra
	ins_Core\;@CUP_Terrains_Maps\;@RHSGREF\;@RHSSAF\;@RHSUSAF\;@RHSAFRF\;@WOG_
	ACE\;@WOG_Mods\;@WOG_BAF\;@WOG_Islands\;@YuEmod\;@TFAR\;\n		\n\n		\n			
	Репозиторий (Arma3Synс):\n		\n\n		\n			ftp://88.99.69.243/Repo
	/WOG/.a3s/autoconfig\n		\n\n		\n			 \n		\n	\n\n\n\n	 \n\n
DTSTART:20191213T180000Z
DTEND:20191214T200000Z
END:VEVENT
END:VCALENDAR
