BEGIN:VCALENDAR
VERSION:2.0
PRODID:-//IP.Board Calendar 4.3.6//EN
METHOD:PUBLISH
CALSCALE:GREGORIAN
X-WR-CALNAME:WOG
BEGIN:VTIMEZONE
TZID:Europe/London
TZURL:http://tzurl.org/zoneinfo/Europe/London
X-LIC-LOCATION:Europe/London
BEGIN:DAYLIGHT
TZOFFSETFROM:+0000
TZOFFSETTO:+0100
TZNAME:BST
DTSTART:20190331T020000Z
RRULE:FREQ=YEARLY;BYMONTH=3;BYDAY=-1SU
END:DAYLIGHT
BEGIN:STANDARD
TZOFFSETFROM:+0100
TZOFFSETTO:+0000
TZNAME:GMT
DTSTART:20191027T020000Z
RRULE:FREQ=YEARLY;BYMONTH=10;BYDAY=-1SU
END:STANDARD
END:VTIMEZONE
BEGIN:VEVENT
SUMMARY:Weekly Open Games 22.11.2019 - 23.11.2019
DTSTAMP:20191117T193101Z
SEQUENCE:0
UID:800-1-5734b46ed07498cf109a779f6d92c724@wogames.info
ORGANIZER;CN="SaLeeN":no-reply@wogames.info
DESCRIPTION:\n\n	Cторона 1: KND + URAL + 5THPK + MOR + TSN + BE 
	+ GHOST + FOX + RSG + CTU |  Сторона 2: DSHR + JK + OSN + LG +
	 DT + FRWL + L13  + RS + A+\n\n\n\n	В пятницу 22.11.2019 
	играем:\n\n\n\n	1. Operation Poseidon  U
	SMC - ČDKZ [Остров —  Черн
	оруссия (зимняя)] Cтор
	она 1 в Обороне  \n
	\n\n\n	2. Жук 
	в мурав
	ейнике  Т
	акистанская арм
	ия -  Талибан [Остров
	 —  Фаллуджа]  Cторона 1 в Ат
	аке\n\n\n\n	3. По количеству
	 игроков\n\n\n\n	Игровой администратор —
	 [KND]Avarax\n\n\n\n	 \n\n\n\n	В субботу 23.11.2019 игра
	ем:\n\n\n\n	1. Deadly Toys﻿  ВС 
	Сирии при подд
	ержке ВКС и ССО РФ - ИГ
	ИЛ [Остров —  Литиу
	м] Cторона 1 в Атаке\n\n
	\n\n	2. Уругал ﻿ СССР -
	 Моджахеды [Остров —  F.A.T.
	A.] Cторона 1 в Обороне \n\n\n\
	n	3. По количеству игроков\n\n\
	n\n	Игровой администратор — [FOX
	]onoda\n\n\n\n	СПИСОК КОМАНДОВАНИЯ:\n
	\n\n\n	\n\n\n	Внимание! 
	Миссии могут быть 
	обновлены в течение н
	едели! Следите за темами!\n\n\n	Адр
	ес FTP сервера проекта:\nftp://88.99.69.24
	3\n\n	Адрес автоконфига:\nftp://88.99.69.243/Repo/WOG/.a3s
	/autoconfig\n\n	Техническая инфор
	мация для подключения:\n\n\n\n	\n		Спойлер\n	\n
	\n	\n		\n			 \n		\n\n		\n			IP игрового сервера: 88.99.69.
	243\n		\n\n		\n			Порт игрового сервера: 3089\n\
	n			Пароль: wogames \n\n			TeamSpeak сервер: wogames.info:998
	7\n		\n\n		\n			Строка Запуска:\n		\n\n		\n			-mod=@CUP_Terra
	ins_Core\;@CUP_Terrains_Maps\;@RHSGREF\;@RHSSAF\;@RHSUSAF\;@RHSAFRF\;@WOG_
	ACE\;@WOG_Mods\;@WOG_BAF\;@WOG_Islands\;@YuEmod\;@TFAR\;\n		\n\n		\n			
	Репозиторий (Arma3Synс):\n		\n\n		\n			ftp://88.99.69.243/Repo
	/WOG/.a3s/autoconfig\n		\n\n		\n			 \n		\n	\n\n\n\n	 \n\n
DTSTART:20191122T180000Z
DTEND:20191123T180000Z
END:VEVENT
END:VCALENDAR
