BEGIN:VCALENDAR
VERSION:2.0
PRODID:-//IP.Board Calendar 4.3.6//EN
METHOD:PUBLISH
CALSCALE:GREGORIAN
X-WR-CALNAME:WOG
BEGIN:VTIMEZONE
TZID:Europe/London
TZURL:http://tzurl.org/zoneinfo/Europe/London
X-LIC-LOCATION:Europe/London
BEGIN:DAYLIGHT
TZOFFSETFROM:+0000
TZOFFSETTO:+0100
TZNAME:BST
DTSTART:20190331T020000Z
RRULE:FREQ=YEARLY;BYMONTH=3;BYDAY=-1SU
END:DAYLIGHT
BEGIN:STANDARD
TZOFFSETFROM:+0100
TZOFFSETTO:+0000
TZNAME:GMT
DTSTART:20191027T020000Z
RRULE:FREQ=YEARLY;BYMONTH=10;BYDAY=-1SU
END:STANDARD
END:VTIMEZONE
BEGIN:VEVENT
SUMMARY:Weekly Open Games 01.11.2019 - 02.11.2019
DTSTAMP:20191027T185230Z
SEQUENCE:0
UID:797-1-5734b46ed07498cf109a779f6d92c724@wogames.info
ORGANIZER;CN="Avarax":no-reply@wogames.info
DESCRIPTION:\n\n	Cторона 1: KND + URAL + 5THPK + MOR + TSN + BE 
	+ GHOST + FOX + RSG + CTU  |  Сторона 2: DSHR + JK + OSN + LG
	 + DT + FRWL + L13  + RS + A+\n\n\n\n	 \n\n\n\n	В пятниц
	у 01.11.2019 играем:\n\n\n\n	1.Last Step
	  ВС Ирака - ISIS [Остров —  
	Фалуджа] Cторона 1 в Обороне \n\n\n\n	2. Dawn o
	f Freedom﻿ Takistan Army - Taliban [Ост
	ров —  Решман] Cторона 1 в 
	Атаке\n\n\n\n	3. По количес
	тву игроков\n\n\n\n	Игровой администрат
	ор — [DT]SaLeeN\n\n\n\n	 \n\n\n\n	В субботу 02.11.201
	9 играем:\n\n\n\n	1. Behind the iron curtain﻿  
	Army US - ВС СССР [О
	стров —  Черно﻿руссия (зимняя
	﻿)] Cторона 1 в Атаке\n\n\n\n	2. Rasman armor
	ed  (версия с МГС)  US Army -  T
	akistan Army [Остров —  Такист
	ан ]  Cторона 1 в Обороне \n
	\n\n\n	3. По количеству игроков\
	n\n\n\n	Игровой администратор — [KND]Fl
	ayer\n\n\n\n	 \n\n\n\n	СПИСОК КОМАНДОВАНИЯ
	:\n\n\n\n	\n\n\n	Внимание! 
	Миссии могут быт
	ь обновлены в течени
	е недели! Следите за темами!\n\n	
	Адрес FTP сервера проекта:\nftp://88.99
	.69.243\n\n	Адрес автоконфига:\nftp://88.99.69.243/Repo/WO
	G/.a3s/autoconfig\n\n	Техническая инфо
	рмация для подключения\n\n	 \n\n\n\n	\n		Spoile
	r\n	\n\n	\n		\n			IP игрового сервера: 88.99.69.243\
	n		\n\n		\n			Порт игрового сервера: 3089\n\n			
	Пароль: wogames \n\n			TeamSpeak сервер: wogames.info:9987\n
			\n\n		\n			Строка Запуска:\n		\n\n		\n			-mod=@CUP_Terrains
	_Core\;@CUP_Terrains_Maps\;@RHSGREF\;@RHSSAF\;@RHSUSAF\;@RHSAFRF\;@WOG_ACE
	\;@WOG_Mods\;@WOG_BAF\;@WOG_Islands\;@YuEmod\;@TFAR\;\n		\n\n		\n			
	Репозиторий (Arma3Synс):\n		\n\n		\n			ftp://88.99.69.243/Repo
	/WOG/.a3s/autoconfig\n		\n	\n\n\n\n	 \n\n
DTSTART:20191101T160000Z
DTEND:20191102T160000Z
END:VEVENT
END:VCALENDAR
