BEGIN:VCALENDAR
VERSION:2.0
PRODID:-//IP.Board Calendar 4.3.6//EN
METHOD:PUBLISH
CALSCALE:GREGORIAN
X-WR-CALNAME:WOG
BEGIN:VTIMEZONE
TZID:Europe/London
TZURL:http://tzurl.org/zoneinfo/Europe/London
X-LIC-LOCATION:Europe/London
BEGIN:DAYLIGHT
TZOFFSETFROM:+0000
TZOFFSETTO:+0100
TZNAME:BST
DTSTART:20190331T020000Z
RRULE:FREQ=YEARLY;BYMONTH=3;BYDAY=-1SU
END:DAYLIGHT
BEGIN:STANDARD
TZOFFSETFROM:+0100
TZOFFSETTO:+0000
TZNAME:GMT
DTSTART:20191027T020000Z
RRULE:FREQ=YEARLY;BYMONTH=10;BYDAY=-1SU
END:STANDARD
END:VTIMEZONE
BEGIN:VEVENT
SUMMARY:Weekly Open Games 18.10.2019 - 19.10.2019
DTSTAMP:20191013T194548Z
SEQUENCE:0
UID:795-1-5734b46ed07498cf109a779f6d92c724@wogames.info
ORGANIZER;CN="FlayeR":no-reply@wogames.info
DESCRIPTION:\n\n	Сторона 1: KND + URAL + 5THPK + MOR + TSN + BE
	 + GHOST + FOX + RSG  |  Сторона 2: DSHR + JK + OSN + LG + DT +
	 FRWL + L13  + RS + A+\n\n\n\n	 \n\n\n\n	 \n\n\n\n	В пятниц
	у 18.10.2019 играем:\n\n\n\n	1. Blitzkrieg 2   US A
	rmy - МСВ РФ + ВДВ РФ [
	Остров —  Чернору
	ссия]  Cторона 1 в А
	таке \n\n\n\n	2.
	 Черное з
	олото﻿  ВС РФ - Б
	оевики [Остров —  Т
	акистан] Cторона 1 в Обороне
	\n\n\n\n	3. По количеству игроко
	в\n\n\n\n	Игровой администратор — [DT]SaL
	eeN\n\n\n\n	 \n\n\n\n	В субботу 19.10.2019 играем:\n\n\n
	\n	1. Under Fire   SLA - US Army  [
	Остров — Сахрани] Cторон
	а 1 в Обороне\n\n\n\n	2
	. Выбор   ВС РФ  - 
	USMC   [Остров —  Черно
	руссия]  Cторона 1 в Атаке \
	n\n\n\n	3. По количеству игроков
	\n\n\n\n	Игровой администратор — [FOX]o
	noda\n\n\n\n	 \n\n\n\n	СПИСОК КОМАНДОВАНИЯ:\
	n\n\n\n	\n\n\n\n	Внимание! 
	Миссии могут быт
	ь обновлены в теч
	ение недели! Следите за темами
	!\nАдрес FTP сервера проекта:\nftp://88
	.99.69.243\n\n	Адрес автоконфига:\nftp://88.99.69.243/Repo
	/WOG/.a3s/autoconfig\n\n	Техническая ин
	формация для подключения\n\n\n\n	\n	
		Спойлер\n	\n\n	\n		\n			IP игрового сервера: 88.9
	9.69.243\n		\n\n		\n			Порт игрового сервера: 
	3089\n\n			Пароль: wogames \n\n			TeamSpeak сервер: wogames
	.info:9987\n\n\n			Строка Запуска:\n		\n\n		\n			-mod=@CUP_Te
	rrains_Core\;@CUP_Terrains_Maps\;@RHSGREF\;@RHSSAF\;@RHSUSAF\;@RHSAFRF\;@W
	OG_ACE\;@WOG_Mods\;@WOG_BAF\;@WOG_Islands\;@YuEmod\;@TFAR\;\n		\n\n		\n			
	\n\nРепозиторий (Arma3Synс):\n		\n\n		\n			ftp://88.99.69.243/
	Repo/WOG/.a3s/autoconfig\n		\n	\n\n\n\n	 \n\n
DTSTART:20191018T180000Z
DTEND:20191019T205900Z
END:VEVENT
END:VCALENDAR
