BEGIN:VCALENDAR
VERSION:2.0
PRODID:-//IP.Board Calendar 4.3.6//EN
METHOD:PUBLISH
CALSCALE:GREGORIAN
X-WR-CALNAME:WOG
BEGIN:VTIMEZONE
TZID:Europe/London
TZURL:http://tzurl.org/zoneinfo/Europe/London
X-LIC-LOCATION:Europe/London
BEGIN:DAYLIGHT
TZOFFSETFROM:+0000
TZOFFSETTO:+0100
TZNAME:BST
DTSTART:20190331T020000Z
RRULE:FREQ=YEARLY;BYMONTH=3;BYDAY=-1SU
END:DAYLIGHT
BEGIN:STANDARD
TZOFFSETFROM:+0100
TZOFFSETTO:+0000
TZNAME:GMT
DTSTART:20191027T020000Z
RRULE:FREQ=YEARLY;BYMONTH=10;BYDAY=-1SU
END:STANDARD
END:VTIMEZONE
BEGIN:VEVENT
SUMMARY:Weekly Open Games 27.09.2019 - 28.09.2019
DTSTAMP:20190922T180257Z
SEQUENCE:0
UID:792-1-5734b46ed07498cf109a779f6d92c724@wogames.info
ORGANIZER;CN="Dgors":no-reply@wogames.info
DESCRIPTION:\n\n	Сторона 1: KND + URAL + 5THPK + MOR + TSN + BE
	 + GHOST + FOX + RSG  Сторона 2: DSHR + JK + OSN + LG + DT + FR
	WL + L13  + RS + A+\n\n\n\n	 \n\n\n\n	В пятницу 27.09.20
	19 играем:\n\n\n\n	1. Haba-Haba  BAF - Taliban
	 [ Такистан ] Сторона 1 в Атаке
	\n\n\n\n	2. Вариант 2008  ВС РФ -
	 ВС Грузии [ НАПФ ] Сторона 
	1 в Обороне\n\n\n\n	3. По к
	оличеству игроков\n\n\n\n	Игровой 
	администратор — [KND]Dgors\n\n\n\n	 \n\n\
	n\n	В субботу 28.09.2019 играем:\n\n\n\n	1. Dead Islan
	d  USMC - North Korean Army [ Мальден ] Сторона 
	1 в Обороне\n\n\n\n	2. Dimah Mahzum  US Army - T
	aliban [ Решман ] Сторона 1 в Атаке
	\n\n\n\n	3. По количеству игрок
	ов\n\n\n\n	Игровой администратор — [KND
	]Grifon\n\n\n\n	 \n\n\n\n	СПИСОК КОМАНД
	ОВАНИЯ:\n\n\n\n	Вним
	ание! Миссии могу
	т быть обновлены в т
	ечение недели! Следите за те
	мами!\n\n	Адрес FTP сервера проекта:\nf
	tp://88.99.69.243\n\n	Адрес автоконфига:\nftp://88.99.69.2
	43/Repo/WOG/.a3s/autoconfig\n\n	Техниче
	ская информация для подключения\n\n\n\n	  R
	eveal hidden contents\n\n\n	 \n\n\n\n	\n		Спойлер\n	\n\n	\n		
	\n			IP игрового сервера: 88.99.69.243\
	n		\n\n		\n			Порт игрового сервера: 3089\n\n	
			Пароль: wogames \n\n			TeamSpeak сервер: wogames.inf
	o:9987\n\n\n			Строка Запуска:\n		\n\n		\n			-mod=@CUP_Terrai
	ns_Core\;@CUP_Terrains_Maps\;@RHSGREF\;@RHSSAF\;@RHSUSAF\;@RHSAFRF\;@WOG_A
	CE\;@WOG_Mods\;@WOG_BAF\;@WOG_Islands\;@YuEmod\;@TFAR\;\n		\n\n		\n			\n\n
	\n			Репозиторий (Arma3Synс):\n		\n\n		\n			ftp://88.99.69.243
	/Repo/WOG/.a3s/autoconfig\n		\n	\n\n\n\n	 \n\n
DTSTART:20190927T180000Z
DTEND:20190928T180000Z
END:VEVENT
END:VCALENDAR
