BEGIN:VCALENDAR
VERSION:2.0
PRODID:-//IP.Board Calendar 4.3.6//EN
METHOD:PUBLISH
CALSCALE:GREGORIAN
X-WR-CALNAME:WOG
BEGIN:VTIMEZONE
TZID:Europe/London
TZURL:http://tzurl.org/zoneinfo/Europe/London
X-LIC-LOCATION:Europe/London
BEGIN:DAYLIGHT
TZOFFSETFROM:+0000
TZOFFSETTO:+0100
TZNAME:BST
DTSTART:20190331T020000Z
RRULE:FREQ=YEARLY;BYMONTH=3;BYDAY=-1SU
END:DAYLIGHT
BEGIN:STANDARD
TZOFFSETFROM:+0100
TZOFFSETTO:+0000
TZNAME:GMT
DTSTART:20191027T020000Z
RRULE:FREQ=YEARLY;BYMONTH=10;BYDAY=-1SU
END:STANDARD
END:VTIMEZONE
BEGIN:VEVENT
SUMMARY:Weekly Open Games 06.09.2019 - 07.09.2019
DTSTAMP:20190901T191129Z
SEQUENCE:0
UID:789-1-5734b46ed07498cf109a779f6d92c724@wogames.info
ORGANIZER;CN="Avarax":no-reply@wogames.info
DESCRIPTION:\n\n	Сторона 1 KND + URAL + 5THPK + MOR + TSN + BE 
	+ GHOST + FOX + RSG  Сторона 2 DSHR + JK + OSN + LG + DT + FRW
	L + L13  + RS + A+\n\n\n\n	 \n\n\n\n	В пятницу 06.09.201
	9 играем:\n\n\n\n	1.Destiny of death  U
	S Army - МСВ РФ [ Остров — О
	стров Н﻿апф ] Сторона 1 в Атаке\n\n\n\n	2. 
	Dawn of Freedom  Ta﻿kist﻿an Arm﻿y﻿﻿ -
	 Taliban  [ Остров — Решман
	] Cторона 1 в Обороне\n\n\n\n
		3. По количеству игроков\n\n\n\
	n	Игровой администратор — [KND]Avarax\n\n\
	n\n	 \n\n\n\n	 \n\n\n\n	В субботу 07.09.2019 играем:\n\n
	\n\n	1. Operation spark  CDF  - CHDKZ 
	 [ Остров —  Чернору
	ссия (летняя) ] Cторона 
	1 в Обороне\n\n\n\
	n	2.Порывистый вет
	ер﻿  USMC - Боевики [ Ост
	ров — Мальден 2035 ] Сторо
	на 1 в Атаке\n\n\n\n	3. По 
	количеству игроков\n\n\n\n	Игрово
	й администратор — [KND]Emty\n\n\n\n	 \
	n\n\n\n	СПИСОК КОМАНДОВАНИЯ:\n\n\n\n	\
	n\n\n	 \n\n\n\n	Внимание!
	 Миссии могут быт
	ь обновлены в течени
	е недели! Следите за темами!\n\n	
	Адрес FTP сервера проекта:\nftp://88.99
	.69.243\n\n	Адрес автоконфига:\nftp://88.99.69.243/Repo/WO
	G/.a3s/autoconfig\n\n	Техническая инфор
	мация для подключения\n\n\n\n	\n		Spoiler\n
		\n\n	\n		\n			IP игрового сервера: 88.99.69.243
	\n		\n\n		\n			Порт игрового сервера: 3089\n\n
				Пароль: wogames \n\n			TeamSpeak сервер: wogames.inf
	o:9987\n\n\n			Строка Запуска:\n		\n\n		\n			-mod=@CUP_Terrai
	ns_Core\;@CUP_Terrains_Maps\;@RHSGREF\;@RHSSAF\;@RHSUSAF\;@RHSAFRF\;@WOG_A
	CE\;@WOG_Mods\;@WOG_BAF\;@WOG_Islands\;@YuEmod\;@TFAR\;\n		\n\n		\n			\n\n
	\n			Репозиторий (Arma3Synс):\n		\n\n		\n			ftp://88.99.69.243
	/Repo/WOG/.a3s/autoconfig\n		\n	\n\n
DTSTART:20190906T180000Z
DTEND:20190906T220000Z
END:VEVENT
END:VCALENDAR
