BEGIN:VCALENDAR
VERSION:2.0
PRODID:-//IP.Board Calendar 4.3.6//EN
METHOD:PUBLISH
CALSCALE:GREGORIAN
X-WR-CALNAME:WOG
BEGIN:VTIMEZONE
TZID:Europe/London
TZURL:http://tzurl.org/zoneinfo/Europe/London
X-LIC-LOCATION:Europe/London
BEGIN:DAYLIGHT
TZOFFSETFROM:+0000
TZOFFSETTO:+0100
TZNAME:BST
DTSTART:20190331T020000Z
RRULE:FREQ=YEARLY;BYMONTH=3;BYDAY=-1SU
END:DAYLIGHT
BEGIN:STANDARD
TZOFFSETFROM:+0100
TZOFFSETTO:+0000
TZNAME:GMT
DTSTART:20191027T020000Z
RRULE:FREQ=YEARLY;BYMONTH=10;BYDAY=-1SU
END:STANDARD
END:VTIMEZONE
BEGIN:VEVENT
SUMMARY:Weekly Open Games 16.08.2019 - 17.08.2019
DTSTAMP:20190811T201042Z
SEQUENCE:0
UID:786-1-5734b46ed07498cf109a779f6d92c724@wogames.info
ORGANIZER;CN="BB_STOP":no-reply@wogames.info
DESCRIPTION:\n\n	Сторона 1 - KND + RSG + DT + FOX + 1ДШР 
	+ L13 + TSN + FRWL + A+    |     Сторона 2 - JK + 5thP
	K + BE + GHOST + URAL + RS + MOR +LG\n\n\n	В пятницу 16.
	08.2019 играем:\n\n\n\n	1. Operation Motorma
	n  BAF  — ИРА [ Остров —  
	Celle ] Сторона 1 в Обороне
	\n\n\n\n	2. Пипос  US A
	rmy —  Боевики [ Остр
	ов —  Алтис ] Сторона 1 в Ат
	аке\n\n\n\n	3. По количеству 
	игроков\n\n\n\n	Игровой администратор — 
	[FOX]Theory\n\n\n\n	 \n\n\n\n	В субботу 17.08.2019 иг
	раем:\n\n\n\n	1
	. Коррида﻿
	  BAF﻿﻿  — МП РФ  
	[ Остров —  Чернор
	уссия ] Сторона 1 в А
	таке\n\n\n\n	2. Воз
	мездие  TA   — USMC
	  [ Остров —  Та
	кистан﻿ ] Сторона 1 в Об
	ороне\n\n\n	3. По количеств
	у игроков\n\n\n\n	Игровой администрато
	р — [KND]grifon\n\n\n	 \n\n\n\n	СПИСО
	К КОМАНДОВАНИЯ:\
	n\n\nВнимание! Ми
	ссии могут быть об
	новлены в течение н
	едели! Следите за темами!\n\n	Адрес
	 FTP сервера проекта:\nftp://88.99.69.243\n\
	n	Адрес автоконфига:\nftp://88.99.69.243/Repo/WOG/.a3s
	/autoconfig\n\n	Техническая информаци
	я для подключения\n\n	 \n\n\n\n	\n		Спойл
	ер\n	\n\n	\n		\n			IP игрового сервера: 88.99.69.2
	43\n		\n\n		\n			Порт игрового сервера: 3089\n
	\n			Пароль: wogames \n\n			TeamSpeak сервер: wogames.inf
	o:9987\n\n\n			Строка Запуска:\n		\n\n		\n			-mod=@CUP_Terrai
	ns_Core\;@CUP_Terrains_Maps\;@RHSGREF\;@RHSSAF\;@RHSUSAF\;@RHSAFRF\;@WOG_A
	CE\;@WOG_Mods\;@WOG_BAF\;@WOG_Islands\;@YuEmod\;@TFAR\;\n		\n\n		\n			\n\n
	\n			Репозиторий (Arma3Synс):\n		\n\n		\n			ftp://88.99.69.243
	/Repo/WOG/.a3s/autoconfig\n		\n	\n\n\n\n	 \n\n
DTSTART:20190816T180000Z
DTEND:20190817T180000Z
END:VEVENT
END:VCALENDAR
