BEGIN:VCALENDAR
VERSION:2.0
PRODID:-//IP.Board Calendar 4.3.6//EN
METHOD:PUBLISH
CALSCALE:GREGORIAN
X-WR-CALNAME:WOG
BEGIN:VTIMEZONE
TZID:Europe/London
TZURL:http://tzurl.org/zoneinfo/Europe/London
X-LIC-LOCATION:Europe/London
BEGIN:DAYLIGHT
TZOFFSETFROM:+0000
TZOFFSETTO:+0100
TZNAME:BST
DTSTART:20190331T020000Z
RRULE:FREQ=YEARLY;BYMONTH=3;BYDAY=-1SU
END:DAYLIGHT
BEGIN:STANDARD
TZOFFSETFROM:+0100
TZOFFSETTO:+0000
TZNAME:GMT
DTSTART:20191027T020000Z
RRULE:FREQ=YEARLY;BYMONTH=10;BYDAY=-1SU
END:STANDARD
END:VTIMEZONE
BEGIN:VEVENT
SUMMARY:Weekly Open Games 02.08.2019 - 03.08.2019
DTSTAMP:20190728T182852Z
SEQUENCE:0
UID:783-1-5734b46ed07498cf109a779f6d92c724@wogames.info
ORGANIZER;CN="Dgors":no-reply@wogames.info
DESCRIPTION:\n\n	Сторона 1 - KND + RSG + DT + FOX + 1ДШР 
	+ L13 + TSN + FRWL + A+    |     Сторона 2 - JK + 5thP
	K + BE + GHOST + URAL + RS + MOR +LG\n\n\n	В пятницу 02.
	08.2019 играем:\n\n\n\n	1. 
	Возмездие  Та
	кистанская Армия — USM
	C  [ Остров — Такистан
	 ] Сторона 1 в Атаке\n\n
	\n\n	2. Зеленогорс
	к РФ+ЧДКЗ — ЧСО+USM
	C﻿  [ Остров — Черно
	русия ] Сторона 1 в Обороне
	\n\n\n\n	3. По количеству игроко
	в\n\n\n\n	Игровой администратор — [KND] g
	rifon\n\n\n\n	 \n\n\n\n	В субботу 03.08.2019 играем
	:\n\n\n\n	1. Марш на Ла-М
	анш Советская Арм
	ия — US Army ﻿  [ Остро
	в — Роше] Сторона
	 1 в Обороне\n\n\
	n\n	2. Уругал 
	 Советская Армия 
	 — Боевики  [ Остров
	 — ФАТА ] Сторона 1 в Атаке
	\n\n\n\n	3. По количеству игроко
	в\n\n\n\n	Игровой администратор — [FOX] T
	heory\n\n\n\n	 \n\n\n\n	СПИСОК КОМАНДОВАНИЯ:\n\n\n
	\n	\n\n\n	 \n\n\n\n	Внимани
	е! Миссии могут быть
	 обновлены в течение нед
	ели! Следите за темами!\n\n\n\n	Адрес
	 FTP сервера проекта:\nftp://88.99.69.243\n\
	n	Адрес автоконфига:\nftp://88.99.69.243/Repo/WOG/.a3s
	/autoconfig\n\n	Техническая информация
	 для подключения\n\n\n	 \n\n\n\n	\n		Спойлер\n	\n\n
		\n		\n			 \n		\n\n		\n			IP игрового сервера: 88.99.69.2
	43\n		\n\n		\n			Порт игрового сервера: 3089\n
	\n			Пароль: wogames \n\n			TeamSpeak сервер: wogames.inf
	o:9987\n\n\n			Строка Запуска:\n		\n\n		\n			-mod=@CUP_Terrai
	ns_Core\;@CUP_Terrains_Maps\;@RHSGREF\;@RHSSAF\;@RHSUSAF\;@RHSAFRF\;@WOG_A
	CE\;@WOG_Mods\;@WOG_BAF\;@WOG_Islands\;@YuEmod\;@TFAR\;\n		\n\n		\n			\n\n
	Репозиторий (Arma3Synс):\n		\n\n		\n			ftp://88.99.69.243/Repo
	/WOG/.a3s/autoconfig\n		\n\n		\n			 \n		\n	\n\n\n\n	 \n\n
DTSTART:20190802T180000Z
DTEND:20190803T180000Z
END:VEVENT
END:VCALENDAR
