BEGIN:VCALENDAR
VERSION:2.0
PRODID:-//IP.Board Calendar 4.3.6//EN
METHOD:PUBLISH
CALSCALE:GREGORIAN
X-WR-CALNAME:WOG
BEGIN:VTIMEZONE
TZID:Europe/London
TZURL:http://tzurl.org/zoneinfo/Europe/London
X-LIC-LOCATION:Europe/London
BEGIN:DAYLIGHT
TZOFFSETFROM:+0000
TZOFFSETTO:+0100
TZNAME:BST
DTSTART:20190331T020000Z
RRULE:FREQ=YEARLY;BYMONTH=3;BYDAY=-1SU
END:DAYLIGHT
BEGIN:STANDARD
TZOFFSETFROM:+0100
TZOFFSETTO:+0000
TZNAME:GMT
DTSTART:20191027T020000Z
RRULE:FREQ=YEARLY;BYMONTH=10;BYDAY=-1SU
END:STANDARD
END:VTIMEZONE
BEGIN:VEVENT
SUMMARY:Weekly Open Games 19.07.2019 - 20.07.2019
DTSTAMP:20190714T201034Z
SEQUENCE:0
UID:780-1-5734b46ed07498cf109a779f6d92c724@wogames.info
ORGANIZER;CN="BB_STOP":no-reply@wogames.info
DESCRIPTION:\n\n	Сторона 1 - KND + RSG + DT + FOX + 1ДШР 
	+ L13 + TSN + FRWL + A+    |     Сторона 2 - JK + 5thPK
	 + BE + GHOST + URAL + RS + MOR +LG\n\n\n	В пятницу 19.0
	7.2019 играем:\n\n\n\n	 1. Финский к
	ризис   ВС РФ + Militia — NATO  
	[ Остров — Celle ] Сторона 1 в ата
	ке\n\n\n\n	         2. Fury road  
	Талибан — US Army  [ Остров
	 — Литиум ]  Cторона 1 в обо
	роне\n\n\n\n	3. По количеств
	у игроков\n\n\n\n	Игровой администратор —
	 [MOR]Avarax\n\n\n\n	 \n\n\n\n	В субботу 20.07.2019 играем
	:\n\n\n\n	1. Blitzkrieg 2   US Army — 
	МСВ РФ + ВДВ РФ  [ Ост
	ров — Черноруссия ]  Сторона 1 в о
	бороне\n\n\n	2. Khassadar  Regular army — I
	SIS  [ Остров — F.A.T.A. ] Сто
	рона 1 в атаке\n\n\n\n	3. П
	о количеству игроков\n\n\n\n	Игр
	овой администратор — [KND]grifon\n\
	n\n\n	 \n\n\n\n	СПИСОК КОМАНДОВА
	НИЯ:\n\n\n\n\n	Внимани
	е! Миссии могут быт
	ь обновлены в течение недели
	! Следите за темами!\n\n	 \n\n\n\n	Адре
	с FTP сервера проекта:\nftp://88.99.69.243\
	n\n	Адрес автоконфига:\nftp://88.99.69.243/Repo/WOG/.a3s
	/autoconfig\n\n	Техническая информаци
	я для подключения\n\n	 \n\n\n\n	\n		Спойл
	ер\n	\n\n	\n		\n			IP игрового сервера: 88.99.69.2
	43\n		\n\n		\n			Порт игрового сервера: 3089\n
	\n			Пароль: wogames \n\n			TeamSpeak сервер: wogames.inf
	o:9987\n\n\n			Строка Запуска:\n		\n\n		\n			-mod=@CUP_Terrai
	ns_Core\;@CUP_Terrains_Maps\;@RHSGREF\;@RHSSAF\;@RHSUSAF\;@RHSAFRF\;@WOG_A
	CE\;@WOG_Mods\;@WOG_BAF\;@WOG_Islands\;@YuEmod\;@TFAR\;\n		\n\n		\n			\n\n
	\n			Репозиторий (Arma3Synс):\n		\n\n		\n			ftp://88.99.69.243
	/Repo/WOG/.a3s/autoconfig\n		\n	\n\n\n\n	 \n\n
DTSTART:20190719T180000Z
DTEND:20190720T180000Z
END:VEVENT
END:VCALENDAR
