BEGIN:VCALENDAR
VERSION:2.0
PRODID:-//IP.Board Calendar 4.3.6//EN
METHOD:PUBLISH
CALSCALE:GREGORIAN
X-WR-CALNAME:WOG
BEGIN:VTIMEZONE
TZID:Europe/London
TZURL:http://tzurl.org/zoneinfo/Europe/London
X-LIC-LOCATION:Europe/London
BEGIN:DAYLIGHT
TZOFFSETFROM:+0000
TZOFFSETTO:+0100
TZNAME:BST
DTSTART:20190331T020000Z
RRULE:FREQ=YEARLY;BYMONTH=3;BYDAY=-1SU
END:DAYLIGHT
BEGIN:STANDARD
TZOFFSETFROM:+0100
TZOFFSETTO:+0000
TZNAME:GMT
DTSTART:20191027T020000Z
RRULE:FREQ=YEARLY;BYMONTH=10;BYDAY=-1SU
END:STANDARD
END:VTIMEZONE
BEGIN:VEVENT
SUMMARY:Weekly Open Games 05.07.2019 - 06.07.2019
DTSTAMP:20190630T185948Z
SEQUENCE:0
UID:778-1-5734b46ed07498cf109a779f6d92c724@wogames.info
ORGANIZER;CN="SaLeeN":no-reply@wogames.info
DESCRIPTION:\n\n	Сторона 1 - KND + RSG + DT + FOX + 1ДШР 
	+ L13 + TSN + FRWL + A+    |     Сторона 2 - JK + 5thPK
	 + BE + GHOST + URAL + RS + MOR +LG\n\n\n	В пятницу 05.0
	7.2019 играем:\n\n\n\n	 1. Б
	ой под Баста
	мом   ВС Сири
	и\, ЧВК — СДС\, ВС С
	ША  [ Остров — Такист
	ан ] Сторона 1 в атаке
	\n\n\n\n	         2.
	 Коррида BAF — М
	П РФ  [ Остров — Чер
	норуссия ]  Cторона 1 в обор
	оне\n\n\n\n	3. По количеству 
	игроков\n\n\n\n	Игровой администратор —
	 [DT]SaLeeN\n\n\n\n	 \n\n\n\n	В субботу 06.07.2019 играем:
	\n\n\n\n	1. Khassadar   Regular army — ISIS  [
	 Остров — F.A.T.A. ]  Сторона 1 в
	 обороне\n\n\n	2. Anzac Da
	y  ДР﻿В — ANZAC  [ Ост
	ров — Лингор ] Сторона 1 в 
	атаке\n\n\n\n	3. По количес
	тву игроков\n\n\n\n	Игровой администрато
	р — [KND] Dgors\n\n\n\n	 \n\n\n\n	СПИСОК КОМАНД
	ОВАНИЯ:\n\n\n\n	\n\n\n	Вн
	имание! Миссии 
	могут быть обновлены в
	 течение недели! Следите за
	 темами!\n\n\n\n	Адрес FTP сервера проект
	а:\nftp://88.99.69.243\nАдрес автоконфига:\nftp://88.99.6
	9.243/Repo/WOG/.a3s/autoconfig\nТехниче
	ская информация для подключения\n\n\n\
	n	\n		Спойлер\n	\n\n	\n		\n			 \n		\n\n		\n			IP и
	грового сервера: 88.99.69.243\n		\n\n		
	\n			Порт игрового сервера: 3089\n\n			Парол
	ь: wogames \n\n			TeamSpeak сервер: wogames.info:9987
	\n\n\n			Строка Запуска:\n		\n\n		\n			-mod=@CUP_Terrains_Cor
	e\;@CUP_Terrains_Maps\;@RHSGREF\;@RHSSAF\;@RHSUSAF\;@RHSAFRF\;@WOG_ACE\;@W
	OG_Mods\;@WOG_Islands\;@YuEmod\;@task_force_radio\;\n\n\n			Реп
	озиторий (Arma3Synс):\n		\n\n		\n			ftp://88.99.69.243/Repo/WOG/.
	a3s/autoconfig\n		\n\n		\n			 \n		\n	\n\n\n\n	 \n\n
DTSTART;VALUE=DATE:20190705
DTEND;VALUE=DATE:20190706
END:VEVENT
END:VCALENDAR
