BEGIN:VCALENDAR
VERSION:2.0
PRODID:-//IP.Board Calendar 4.3.6//EN
METHOD:PUBLISH
CALSCALE:GREGORIAN
X-WR-CALNAME:WOG
BEGIN:VTIMEZONE
TZID:Europe/London
TZURL:http://tzurl.org/zoneinfo/Europe/London
X-LIC-LOCATION:Europe/London
BEGIN:DAYLIGHT
TZOFFSETFROM:+0000
TZOFFSETTO:+0100
TZNAME:BST
DTSTART:20190331T020000Z
RRULE:FREQ=YEARLY;BYMONTH=3;BYDAY=-1SU
END:DAYLIGHT
BEGIN:STANDARD
TZOFFSETFROM:+0100
TZOFFSETTO:+0000
TZNAME:GMT
DTSTART:20191027T020000Z
RRULE:FREQ=YEARLY;BYMONTH=10;BYDAY=-1SU
END:STANDARD
END:VTIMEZONE
BEGIN:VEVENT
SUMMARY:Weekly Open Games 21.06.2019 - 22.06.2019
DTSTAMP:20190616T182343Z
SEQUENCE:0
UID:776-1-5734b46ed07498cf109a779f6d92c724@wogames.info
ORGANIZER;CN="grfn":no-reply@wogames.info
DESCRIPTION:\n\n	Сторона 1 - KND + RSG + DT + FOX + 1ДШР 
	+ L13 + TSN + FRWL + A+    |     Сторона 2 - JK + 5thPK 
	+ BE + GHOST + URAL + RS + MOR +LG\n\nВ пятницу 21.06.20
	19 играем:\n\n\n\n	 \n\n\n\n	 1.  Easy Walk  
	USMC — ВС РФ [ Остров — Celle ] cторо
	на 1 в атаке\n\n\n\n	         2. Anzac Day DR
	V — ANZAC   [ Остров — Lingor ]  
	сторона 1 в обороне\n\n\n\n
		3. По количеству игроков\n\n\n\n
		Игровой администратор — [FOX]Theory\n\n\n\
	n	 \n\n\n\n	В субботу 22.06.2019 играем:\n\n\n\n	 \n\n\
	n\n	1. Red Bear   ВДВ РФ — US Army + BAF   
	[ Остров — Lithium ]  сторона 1 в обороне\n\
	n2. Winged Infantry  82nd Airborne Division — SLA  [ Ост
	ров — Sahrani ] cторона 1 в атаке\n
	\n\n\n	3. По количеству игроков\n
	\n\n\n	Игровой администратор — [FOX]The
	ory\n\n\n\n	 \n\n\n\n	СПИСОК КОМАНДОВАНИЯ\
	n\n\n\n	\n\n\n\n	Внимание! 
	Миссии могут быть об
	новлены в течение недел
	и! Следите за темами!\n\n\n\n	Адрес FTP
	 сервера проекта:\nftp://88.99.69.243\n\n	Ад
	рес автоконфига:\nftp://88.99.69.243/Repo/WOG/.a3s/a
	utoconfig\n\n	Техническая информ
	ация для подключения\n\n\n\n	\n		Спойлер\n	\n\n	
	\n		\n			 \n		\n\n		\n			\n\n			IP игрового сервера: 88.9
	9.69.243\n		\n\n		\n			Порт игрового сервера: 
	3089\n\n			Пароль: wogames \n\n			TeamSpeak сервер: wogames
	.info:9987\n\n\n			Строка Запуска:\n		\n\n		\n			-mod=@CUP_Te
	rrains_Core\;@CUP_Terrains_Maps\;@RHSGREF\;@RHSSAF\;@RHSUSAF\;@RHSAFRF\;@W
	OG_ACE\;@WOG_Mods\;@WOG_Islands\;@YuEmod\;@task_force_radio\;\n\n\n			
	Репозиторий (Arma3Synс):\n		\n\n		\n			ftp://88.99.69.243/Repo
	/WOG/.a3s/autoconfig\n		\n\n		\n			 \n		\n\n		\n			 \n		\n\n		\n			 \n	
		\n	\n\n
DTSTART:20190621T180000Z
DTEND:20190622T180000Z
END:VEVENT
END:VCALENDAR
