BEGIN:VCALENDAR
VERSION:2.0
PRODID:-//IP.Board Calendar 4.3.6//EN
METHOD:PUBLISH
CALSCALE:GREGORIAN
X-WR-CALNAME:WOG
BEGIN:VTIMEZONE
TZID:Europe/London
TZURL:http://tzurl.org/zoneinfo/Europe/London
X-LIC-LOCATION:Europe/London
BEGIN:DAYLIGHT
TZOFFSETFROM:+0000
TZOFFSETTO:+0100
TZNAME:BST
DTSTART:20190331T020000Z
RRULE:FREQ=YEARLY;BYMONTH=3;BYDAY=-1SU
END:DAYLIGHT
BEGIN:STANDARD
TZOFFSETFROM:+0100
TZOFFSETTO:+0000
TZNAME:GMT
DTSTART:20191027T020000Z
RRULE:FREQ=YEARLY;BYMONTH=10;BYDAY=-1SU
END:STANDARD
END:VTIMEZONE
BEGIN:VEVENT
SUMMARY:Weekly Open Games 14.05.2019 - 15.06.2019
DTSTAMP:20190609T194106Z
SEQUENCE:0
UID:775-1-5734b46ed07498cf109a779f6d92c724@wogames.info
ORGANIZER;CN="SaLeeN":no-reply@wogames.info
DESCRIPTION:\n\n	Сторона 1 - KND + RSG + DT + FOX + 1ДШР 
	+ L13 + TSN + FRWL + A+    |     Сторона 2 - JK + 5thPK 
	+ BE + GHOST + URAL + RS + MOR +LG\n\nВ пятницу 14.06.20
	19 играем:\n\n\n\n	 1. Pirate Bay  USMC — P
	irate group [ Остров — Мальден ] 
	Сторона 1 в Обороне\n\n\n
	\n	           
	 2. Дорога
	 на Пот
	и  ВС Р
	Ф + Аб
	хазски
	е ополче
	нцы — В﻿С Груз﻿
	﻿﻿ии  [ Остров — Чер
	норуссия ]  Сторона 1 в Атак
	е\n\n\n\n	3. По количеству игрок
	ов\n\n\n\n	Игровой администратор — [GHOST
	]sup\n\n	 \n\n\n\n	В субботу 15.06.2019 играем:\
	n\n\n\n	1. Вариант 20
	08  ВС Россий
	ской федерации — ВС
	 Грузии  [ Остров — Напф ]  
	Сторона 1 в Атаке\n\n\n	2. 
	Far Castle  ВСУ — Повстан
	цы  [ Остров — Алтис ] 
	Сторона 1 в Обороне\n\n\n\n
		3. По количеству игроков\n\n\n\
	n	Игровой администратор — [KND]Emt
	y\n\n	 \n\n\n\n	Командование
	:\n\n\nВнимание! Ми
	ссии могут быть об
	новлены в течение нед
	ели! Следите за темами!\n\n\n	Адрес F
	TP сервера проекта:\nftp://88.99.69.243\n\n	
	Адрес автоконфига:\nftp://88.99.69.243/Repo/WOG/.a3s
	/autoconfig\n\n	Техническая инфо
	рмация для подключения\n\n\n\n	\n		Спойлер\n	\
	n\n	\n		\n			 \n		\n\n		\n			\n\n			IP игрового сервера: 
	88.99.69.243\n		\n\n		\n			Порт игрового сервер
	а: 3089\n\n			Пароль: wogames \n\n			TeamSpeak сервер: wo
	games.info:9987\n\n\n			Строка Запуска:\n		\n\n		\n			-mod=@C
	UP_Terrains_Core\;@CUP_Terrains_Maps\;@RHSGREF\;@RHSSAF\;@RHSUSAF\;@RHSAFR
	F\;@WOG_ACE\;@WOG_Mods\;@WOG_Islands\;@YuEmod\;@task_force_radio\;\n\n\n		
		Репозиторий (Arma3Synс):\n		\n\n		\n			ftp://88.99.69.243/Rep
	o/WOG/.a3s/autoconfig\n		\n\n		\n			 \n		\n\n		\n			 \n		\n\n		\n			 \n
			\n	\n\n
DTSTART:20190614T180000Z
DTEND:20190615T180000Z
END:VEVENT
END:VCALENDAR
