BEGIN:VCALENDAR
VERSION:2.0
PRODID:-//IP.Board Calendar 4.3.6//EN
METHOD:PUBLISH
CALSCALE:GREGORIAN
X-WR-CALNAME:WOG
BEGIN:VTIMEZONE
TZID:Europe/London
TZURL:http://tzurl.org/zoneinfo/Europe/London
X-LIC-LOCATION:Europe/London
BEGIN:DAYLIGHT
TZOFFSETFROM:+0000
TZOFFSETTO:+0100
TZNAME:BST
DTSTART:20190331T020000Z
RRULE:FREQ=YEARLY;BYMONTH=3;BYDAY=-1SU
END:DAYLIGHT
BEGIN:STANDARD
TZOFFSETFROM:+0100
TZOFFSETTO:+0000
TZNAME:GMT
DTSTART:20191027T020000Z
RRULE:FREQ=YEARLY;BYMONTH=10;BYDAY=-1SU
END:STANDARD
END:VTIMEZONE
BEGIN:VEVENT
SUMMARY:Weekly Open Games 17.05.2019 - 18.05.2019
DTSTAMP:20190512T183717Z
SEQUENCE:0
UID:771-1-5734b46ed07498cf109a779f6d92c724@wogames.info
ORGANIZER;CN="onoda":no-reply@wogames.info
DESCRIPTION:\n\n	IP игрового сервера: 185.248.1
	02.134\n\n\n\n	Порт игрового сервера: 3089 \n
	\n\n\n	\n\nСторона 1 - KND + RSG + DT + FOX + 1ДШР + 
	L13 + TSN + A+    |     Сторона 2 - JK + 5thPK + BE +
	 GHOST + URAL + RS + MOR + LG\n\n\n	В пятницу 17.05.2019 
	играем:\n\n\n\n	1. Вариан
	т 2008 ВС Грузии 
	— ВС Российской фе
	дерации [ Остров — Напф 
	﻿] Сторона 1 в оборон
	е\n\n\n\n	           
	 2. Проклятый 
	остров﻿ ВС РФ 
	— Ополчение Мальден﻿ 
	[ Остров — Мальден ﻿2035 ]
	 Сторона 1 в атаке\n\n\n\n	
	3. По количеству игроков\n\n\n\n
		Игровой администратор — [KND]Emty\n\n\n	
	 \n\n\n\n	В субботу 18.05.2019 играем:\n\n\n\n	1. Shock and
	 awe UN &amp\; 75th Rangers — МСВ А
	рмии Такистана [ Ост
	ров — Такистан ]  С
	торона 1 в атаке\n\n\
	n	2. Дорога на По
	ти ВС Грузии ﻿
	— ВС РФ + Абхазск
	ие ополченцы [ Остров —
	 Быстрица ] Сторона 1 в оборо
	не\n\n\n\n	3. По количеству игр
	оков\n\n\n\n	Игровой администратор —
	 [KND]Dgors\n\n\n\n	Командование:\n\n
	\n\n	\nВнимание! Ми
	ссии могут быть об
	новлены в течение нед
	ели! Следите за темами!\n\n\n	Адрес F
	TP сервера проекта:\nftp://185.248.102.134\n
	\n	Адрес автоконфига:\nftp://185.248.102.134/Updater_WOG/A
	rmA3Sync/WOG_A3/.a3s/autoconfig\n\n\n	Тех
	ническая информация для подключени
	я\n\n\n	 \n\n\n\n	\n		Спойлер\n	\n\n	\n		\n			IP 
	игрового сервера: 185.248.102.134\n		\
	n\n		\n			Порт игрового сервера: 3089 \n		\n\
	n		\n			Пароль: wogames \n\n			TeamSpeak сервер: wogames.in
	fo:9987\n\n\n			Строка Запуска:\n		\n\n		\n			-mod=@CUP_Terra
	ins_Core\;@CUP_Terrains_Maps\;@RHSGREF\;@RHSSAF\;@RHSUSAF\;@RHSAFRF\;@WOG_
	ACE\;@WOG_Mods\;@WOG_Islands\;@YuEmod\;@task_force_radio\;\n		\n\n		\n			
	Репозиторий (Arma3Synс):\n		\n\n		\n			ftp://185.248.102.134/U
	pdater_WOG/ArmA3Sync/WOG_A3/.a3s/autoconfig\n		\n	\n\n
DTSTART:20190517T180000Z
DTEND:20190518T180000Z
END:VEVENT
END:VCALENDAR
