BEGIN:VCALENDAR
VERSION:2.0
PRODID:-//IP.Board Calendar 4.3.6//EN
METHOD:PUBLISH
CALSCALE:GREGORIAN
X-WR-CALNAME:WOG
BEGIN:VTIMEZONE
TZID:Europe/London
TZURL:http://tzurl.org/zoneinfo/Europe/London
X-LIC-LOCATION:Europe/London
BEGIN:DAYLIGHT
TZOFFSETFROM:+0000
TZOFFSETTO:+0100
TZNAME:BST
DTSTART:20190331T020000Z
RRULE:FREQ=YEARLY;BYMONTH=3;BYDAY=-1SU
END:DAYLIGHT
BEGIN:STANDARD
TZOFFSETFROM:+0100
TZOFFSETTO:+0000
TZNAME:GMT
DTSTART:20191027T020000Z
RRULE:FREQ=YEARLY;BYMONTH=10;BYDAY=-1SU
END:STANDARD
END:VTIMEZONE
BEGIN:VEVENT
SUMMARY:Weekly Open Games 10.05.2019 - 11.05.2019
DTSTAMP:20190505T190302Z
SEQUENCE:0
UID:770-1-5734b46ed07498cf109a779f6d92c724@wogames.info
ORGANIZER;CN="Dgors":no-reply@wogames.info
DESCRIPTION:\n\n	Внимание!
	 Следующие игры пойдут на нов
	ом сервере. Адрес сервера - 95.216.246.155:30
	89\n\nСторона 1 - KND + RSG + DT + FOX + 1ДШР + 
	L13 + TSN + A+    |     Сторона 2 - JK + 5thPK + BE +
	 GHOST + URAL + RS + MOR + LG\n\n\n	В пятницу 10.05.2019 
	играем:\n\n\n\n	1. ANA Company  Afghan Army
	 — ISIS [ Остров — Литиум ] Сто
	рона 1 в обороне\n\n\n\n	            2. War 
	never changes  ВС РФ — US Army 
	[ Остров — Чернорусcия(
	Летняя) ] Сторона 1 в атаке\
	n\n\n\n	3. По количеству игроков\
	n\n\n\n	Игровой администратор — [KND]FlayeR
	\n\n\n	 \n\n\n\n	В субботу 11.05.2019 играем:\n\n\n\n	1. S
	ea lion Bundeswehr﻿ — BAF  [ Остро
	в — Мальден 2035 ]  С
	торона 1 в атаке
	\n\n\n	2. Единобож
	ие  Боевики  — ВС РФ
	﻿ [ Остров — Быстрица
	 ] Сторона 1 в обороне\n\n\n\
	n	3. По количеству игроков\n\n\n
	\n	Игровой администратор — [FOX]onoda
	\n\n\n	 \n\n\n\n	Командование
	:\n\n\nВнимание! Ми
	ссии могут быть об
	новлены в течение нед
	ели! Следите за темами!\n\n\n	Адрес F
	TP сервера проекта:\nftp://185.248.102.134\n
	\n	Адрес автоконфига:\nftp://185.248.102.134/Updater_WOG/A
	rmA3Sync/WOG_A3/.a3s/autoconfig\n\nТехн
	ическая информация для подключения\
	n\n\n	 \n\n\n\n	\n		Спойлер\n	\n\n	\n		\n			IP игр
	ового сервера: 95.216.246.155\n		\n\n		\
	n			Порт игрового сервера: 3089 \n\n			Паро
	ль: wogames \n\n			TeamSpeak сервер: wogames.info:998
	7\n\n\n			Строка Запуска:\n		\n\n		\n			-mod=@CUP_Terrains_Co
	re\;@CUP_Terrains_Maps\;@RHSGREF\;@RHSSAF\;@RHSUSAF\;@RHSAFRF\;@WOG_ACE\;@
	WOG_Mods\;@WOG_Islands\;@YuEmod\;@task_force_radio\;\n		\n\n		\n			
	Репозиторий (Arma3Synс):\n		\n\n		\n			ftp://185.248.102.134/U
	pdater_WOG/ArmA3Sync/WOG_A3/.a3s/autoconfig\n		\n	\n\n\n\n	 \n\n
DTSTART:20190510T180000Z
DTEND:20190511T180000Z
END:VEVENT
END:VCALENDAR
