BEGIN:VCALENDAR
VERSION:2.0
PRODID:-//IP.Board Calendar 4.3.6//EN
METHOD:PUBLISH
CALSCALE:GREGORIAN
X-WR-CALNAME:WOG
BEGIN:VTIMEZONE
TZID:Europe/London
TZURL:http://tzurl.org/zoneinfo/Europe/London
X-LIC-LOCATION:Europe/London
BEGIN:DAYLIGHT
TZOFFSETFROM:+0000
TZOFFSETTO:+0100
TZNAME:BST
DTSTART:20190331T020000Z
RRULE:FREQ=YEARLY;BYMONTH=3;BYDAY=-1SU
END:DAYLIGHT
BEGIN:STANDARD
TZOFFSETFROM:+0100
TZOFFSETTO:+0000
TZNAME:GMT
DTSTART:20191027T020000Z
RRULE:FREQ=YEARLY;BYMONTH=10;BYDAY=-1SU
END:STANDARD
END:VTIMEZONE
BEGIN:VEVENT
SUMMARY:Weekly Open Games 29.03.2019 - 30.03.2019
DTSTAMP:20190324T202235Z
SEQUENCE:0
UID:763-1-5734b46ed07498cf109a779f6d92c724@wogames.info
ORGANIZER;CN="BB_STOP":no-reply@wogames.info
DESCRIPTION:\n\n	Сторона 1 - KND + RSG + DT + FOX + 1ДШР 
	+ L13 + TSN + A+    |     Сторона 2 - JK + 5thPK + BE
	 + GHOST + URAL + RS + MOR\n\n\n	В пятницу 29.03.2019 и
	граем:\n\n\n\n	 1. Бросо
	к Кобры﻿﻿   USMC
	 — ВДВ РФ + МСВ РФ  [
	 Остров — Черноруссия ]  Сто
	рона 1 в обороне\n\n\n\n	      
	      2. In bloom  ВС РФ 
	— ЧСО  [ Остров — Лин
	гор ]  Сторона 1 в атаке\n\n
	\n\n	3. По количеству игроков\n\
	n\n\n	Игровой администратор — [KND] FlayeR
	\n\n	 \n\n\n\n	В субботу 30.03.2019 играем:\n\n\n\n	1. Op
	eration Poseidon  USMC — ЧДК
	З [ Остров — Черноруссия ]  Сторона
	 1 в атаке\n\n\n	2. The key to the north  U
	S Army — ТА [ Остров — Реш
	ман ] Сторона 1 в обороне\n\
	n\n\n	3. По количеству игроков\n
	\n\n\n	Игровой администратор — [FOX] T
	heory\n\n	 \n\n\n\n	Командование:
	\n\n\n\nВнимание! М
	иссии могут быть о
	бновлены в течение не
	дели! Следите за темами!\n\n\n	Адрес
	 FTP сервера проекта:\nftp://185.248.102.134
	\n\n	Адрес автоконфига:\nftp://185.248.102.134/Updater_WOG
	/ArmA3Sync/WOG_A3/.a3s/autoconfig\n\n	Тех
	ническая информация для 
	подключения (Обновленная)\n\n	 \n\n\n\n	\
	n		Спойлер\n	\n\n	\n		\n			IP игрового сервера: 185
	.248.102.134\n		\n\n		\n			Порт игрового серве
	ра: 3089 \n\n			Пароль: wogames \n\n			TeamSpeak сервер
	: wogames.info:9987\n\n\n			Строка Запуска:\n		\n\n		\n			-m
	od=@CUP_Terrains_Core\;@CUP_Terrains_Maps\;@RHSGREF\;@RHSSAF\;@RHSUSAF\;@R
	HSAFRF\;@WOG_ACE\;@WOG_Mods\;@WOG_Islands\;@YuEmod\;@task_force_radio\;\n	
		\n\n		\n			Репозиторий (Arma3Synс):\n		\n\n		\n			ftp://185.2
	48.102.134/Updater_WOG/ArmA3Sync/WOG_A3/.a3s/autoconfig\n		\n	\n\n\n\n	 \
	n\n
DTSTART:20190329T180000Z
DTEND:20190330T180000Z
END:VEVENT
END:VCALENDAR
