BEGIN:VCALENDAR
VERSION:2.0
PRODID:-//IP.Board Calendar 4.3.6//EN
METHOD:PUBLISH
CALSCALE:GREGORIAN
X-WR-CALNAME:WOG
BEGIN:VTIMEZONE
TZID:Europe/London
TZURL:http://tzurl.org/zoneinfo/Europe/London
X-LIC-LOCATION:Europe/London
BEGIN:DAYLIGHT
TZOFFSETFROM:+0000
TZOFFSETTO:+0100
TZNAME:BST
DTSTART:20140330T020000Z
RRULE:FREQ=YEARLY;BYMONTH=3;BYDAY=-1SU
END:DAYLIGHT
BEGIN:STANDARD
TZOFFSETFROM:+0100
TZOFFSETTO:+0000
TZNAME:GMT
DTSTART:20141026T020000Z
RRULE:FREQ=YEARLY;BYMONTH=10;BYDAY=-1SU
END:STANDARD
END:VTIMEZONE
BEGIN:VEVENT
SUMMARY:mWOG 10.12.14 - Будничные игры
DTSTAMP:20141204T144944Z
SEQUENCE:0
UID:76-1-5734b46ed07498cf109a779f6d92c724@wogames.info
ORGANIZER;CN="ToxaSM":no-reply@wogames.info
DESCRIPTION:\n\n\n\n\nСписок миссий:\n1. Тулга NAPA
	 — Civilians + RA [Остров — Чернорусси
	я] сторона KND.TT в атаке за NAPA\n2. Steel fist
	 US Army — TA [Остров — Aliabad Region] сторона
	 KND.TT в обороне за  TA\n3. Wietzendorf Assault Germany 
	KSK — NAPA [Остров — Celle] сторона KND.TT в атак
	е за Germany KSK\n
DTSTART;VALUE=DATE:20141210
END:VEVENT
END:VCALENDAR
