BEGIN:VCALENDAR
VERSION:2.0
PRODID:-//IP.Board Calendar 4.3.6//EN
METHOD:PUBLISH
CALSCALE:GREGORIAN
X-WR-CALNAME:WOG
BEGIN:VTIMEZONE
TZID:Europe/London
TZURL:http://tzurl.org/zoneinfo/Europe/London
X-LIC-LOCATION:Europe/London
BEGIN:DAYLIGHT
TZOFFSETFROM:+0000
TZOFFSETTO:+0100
TZNAME:BST
DTSTART:20190331T020000Z
RRULE:FREQ=YEARLY;BYMONTH=3;BYDAY=-1SU
END:DAYLIGHT
BEGIN:STANDARD
TZOFFSETFROM:+0100
TZOFFSETTO:+0000
TZNAME:GMT
DTSTART:20191027T020000Z
RRULE:FREQ=YEARLY;BYMONTH=10;BYDAY=-1SU
END:STANDARD
END:VTIMEZONE
BEGIN:VEVENT
SUMMARY:Weekly Open Games 01.03.2019 - 02.03.2019
DTSTAMP:20190225T182716Z
SEQUENCE:0
UID:755-1-5734b46ed07498cf109a779f6d92c724@wogames.info
ORGANIZER;CN="FlayeR":no-reply@wogames.info
DESCRIPTION:\n\n	 \n\n\n\n	Сторона 1 - KND + RSG + DT + FO
	X + 1ДШР + L13 + A+    |     Сторона 2 - JK + 5thPK 
	+ BE + GHOST + URAL + RS + MOR\n\nВ пятницу 01.03.2019 и
	граем:\n\n\n\n	1.   Пос
	ледний Шанс   
	US army﻿ — ВС РФ  [ Ос
	тров — Такистан ]  Ст
	орона 1 в обороне\n\n
	\n\n	            2.
	 Тренировоч
	ный день  Боевики — 
	TA    [ Остров — Литиум ]
	   Сторона 1 в атаке\n\n\n\
	n	3. По количеству игроков\n\n\n
	\n	Игровой администратор — [MOR] Avarax\n\
	n	 \n\n\n\n	В субботу 02.03.2019 играем:\n\n\n\n	1. B
	litzkrieg 2  US army﻿ — 
	ВС РФ [ Остров — Чернору
	ссия ]  Сторона 1 в ат
	аке\n\n\n	2. In bloom
	﻿﻿ ВС РФ﻿ — ЧСО [
	 Остров — Лингор ] Сто
	рона 1 в обороне\n\n\n\n	3.
	 По количеству игроков\n\n\n
	\n	Игровой администратор — [FOX] on
	oda\n\nКомандование\n\n\n\n	\
	n\n\n	Внимание! Ми
	ссии могут быть обно
	влены в течение недели!
	 Следите за темами!\n\n\n\n	Адрес FTP се
	рвера проекта:\nftp://185.248.102.134\n\n	Адре
	с автоконфига:\nftp://185.248.102.134/Updater_WOG/ArmA3Sync/WO
	G_A3/.a3s/autoconfig\n\n	Техни
	ческая информация для под
	ключения (Обновленная):\n\n	 \n\n\n\n	\n		
	Спойлер\n	\n\n	\n		\n			IP игрового сервера: 185.24
	8.102.134\n		\n\n		\n			Порт игрового сервера:
	 3089 \n\n			Пароль: wogames \n\n			TeamSpeak сервер: wog
	ames.info:9987\n\n\n			Строка Запуска:\n		\n\n		\n			-mod=@CU
	P_Terrains_Core\;@CUP_Terrains_Maps\;@RHSGREF\;@RHSSAF\;@RHSUSAF\;@RHSAFRF
	\;@WOG_ACE\;@WOG_Mods\;@WOG_Islands\;@YuEmod\;@task_force_radio\;\n		\n\n	
		\n			Репозиторий (Arma3Synс):\n		\n\n		\n			ftp://185.248.102
	.134/Updater_WOG/ArmA3Sync/WOG_A3/.a3s/autoconfig\n		\n	\n\n\n\n	 \n\n
DTSTART:20190301T180000Z
DTEND:20190302T180000Z
END:VEVENT
END:VCALENDAR
